BEGIN:VCALENDAR
VERSION:2.0
PRODID:-//ChamberMaster//Event Calendar 2.0//EN
METHOD:PUBLISH
X-PUBLISHED-TTL:P3D
REFRESH-INTERVAL:P3D
CALSCALE:GREGORIAN
BEGIN:VEVENT
DTSTART:20231007T180000Z
DTEND:20231007T220000Z
X-MICROSOFT-CDO-ALLDAYEVENT:FALSE
SUMMARY:10th Annual Erie Brewfest
DESCRIPTION:10th Annual Erie Brewfest\n\n\n\nPresenting Sponsor:  Allo Fiber\n\nTaster Glass Sponsor - Urban Squeeze\n\nSaturday\, October 7th \, 2023 - 12:00 Noon- 4:00 pm\n\nThe event will take place in Historic Downtown Erie\n\n\n\n\n\nPURCHASE TICKETS\n\nIt's time for the 2023 Erie Chamber of Commerce Annual EB Erie Brewfest! \n\n \n\nWe look forward to a fantastic Brewfest in Erie\, Colorado.\n\nThe day will include music\, food\, craft/service vendors\, games\, and Beer!!\n\nAnd...LOTS OF FUN! Rain\, Shine or whatever Colorado weather brings us.\n\n\nNo dogs are allowed\n\n\nSpecial OFFER: Buy 2 tickets and save $5 EB - (Ends Friday October 6th at 8 am)\n\nTickets: $40.00 online (Ends Friday October 6th at 8 am)\n\nDay of Tickets - $45.00 on site \n\nChamber Members contact us for a discount code: \n\n303-828-3440/ erie@eriechamber.org\n\n\n\nPURCHASE TICKETS\n\n \n\nAll paying tickets include a commemorative Erie Brewfest glass\n\n \n\nDESIGNATED DRIVER\n\nFree admission but no beer\, wristband or commemorative beer glass. You must be 21 and older to enter event.\n\n \n\nEB Brewfest is a 21 and older event.\n\n \n\nMusic - Slick and Machine\n\n \n\nFood available for purchase at local downtown restaurants and event food trucks. Infinitus Pie\, Chile\n\nCon Quesadillas\, In The Doghouse\, .\n\n \n\nNo ticket sales after 2:30 pm\n\n \n\nNo Ticket Refund or Exchanges\n\n \n\nParticipating Breweries   300 Suns Brewing\, Echo Brewing\, Elevated Seltzer\, Knuckle Puck Brewing\, Cellar West Artisan Ales\, The Old Mine\, Outworld Brewing\,  Satire Brewing Co.\, Mother Tucker Breweries\, Beyond the Mountain Brewing\, Sanitas Brewing Company\, Gravity Brewing\, Industrial Revolution\, Danico Brewing\, Westbound & Down\, Stem Cider\, Stirlini Coffee CO. (Canned Cocktail)\n\nMORE BREWERIES COMING DAILY!\n\n \n\nFor more information visit our website - https://eriechamber.org/calendar-of-events/erie-brewfest-eb\n\nor contact the Erie Chamber\n\nCory   erie@eriechamber.org | 303-828-3440\n\n \n\nTHANK YOU TO OUR INVESTORS:\n\nTown of Erie\, Centura Avista Adventist Hospital\, 1st Bank\, Larkridge Shopping Center\, Nesheim's\, ALLO Fiber\, UC Health\, Good Samaritan Hospital-Intermountain Healthcare\, Waste Connections of\n\nColorado\, Blue Federal Credit Union\, Daily Camera Camera/Colorado Hometown Weekly\n\n \n\nThank you to our Sponsors: \n\nPresenting Sponsor:  Allo Communications\n\nGlass Taster Sponsor - Urban Squeeze\n\nAire Serv of the Front Range\, United Power\, Jen Realty\, Lifetime Windows and Siding\, Peek Goldstone\, The Gallery at Broomfield\, Renewal by Anderson\, Phoenix Realty and Property Management\, Bluebird Windows and Doors\, Scissors & Scotch\, Colorado Party Rentals\, Eldorado Natural Spring Water.\n\n \n\nFrequently asked questions:\n\n \n\nIf I'm not drinking do still need to purchase a ticket?\n\nNo. Designated drivers and non-beer attendees do not need to purchase a ticket. \n\n\n\nCan I purchase tickets day of event?\n\nPresale tickets may sell out before day of the event.\n\nIf we don't sell out then yes.  Tickets are more expensive day of event.\n\n \n\nCan children attend the EB Erie Brewfest?\n\nYes. Supervised children are welcome\, however\, please be aware this is an adult event and does not\n\nprovide entertainment for children.\n\n\n\nParking\n\nIf you plan to partake in the festivities then please have a Designated Driver take you home.  There is parking on Town Streets (do not block driveways and fire hydrants).  No parking in the alleyways.  Parking lots are located at Town Hall - 645 Holbrook Street\, Coal Creek Park - 575 Kattell St.  (handicap parking available on a first come basis)\n\n \n\nCan I bring my dog?\n\n No. Please note that dogs are not allowed inside the designated festival area.\n\n\n\nIs food included?\n\nNo there will be several food truck you can purchase from.\n\n \n\nCan I take my beer outside the festival area?\n\nNo. All alcohol must remain inside the designated festival area.\n\n \n\nCan I bring alcohol into the designated festival area?\n\nNo. Leave your alcohol at home but enjoy the many beers provided by all our local breweries.\n\n\n\nGeneral Terms\n\nAll items are non-refundable\, all sales are final.\n\n\n\nRefund Policy\n\nAll items are non-refundable under any circumstances.\n\n\n\nCancellation Policy\n\nThe EB Brewfest will go on regardless of the weather.\n\n\n\nAge Restriction\n\nMust be 21 and older to drink alcohol
X-ALT-DESC;FMTTYPE=text/html:<p><span style="font-size:22px\;"><span style="font-family: verdana\;"><strong>10th Annual Erie Brewfest</strong></span></span><br />\n<br style="font-family: verdana\; font-size: 16px\;" />\n<span style="font-size:20px\;"><span style="font-family: verdana\;"><strong>Presenting Sponsor</strong>:&nbsp\;</span><a href="http://www.allofiber.com/Erie" style="font-family: verdana\; font-size: 16px\;" target="_blank">&nbsp\;Allo Fiber</a></span><br />\n<span style="font-family: verdana\;"><span style="font-size: 16px\;">Taster Glass Sponsor - <a href="https://www.visituswellness.com/">Urban Squeeze</a><br />\nSaturday\, October 7th \, 2023 - 12:00 Noon- 4:00 pm</span></span><br />\n<span style="font-family: verdana\; font-size: 16px\;">The event will take place in Historic Downtown Erie</span><br />\n<br />\n<br />\n<span style="font-family:verdana\;"><span style="font-size:16px\;"><strong><a href="https://www.coloradoboxoffice.com/e/2023-erie-chamber-of-commerce-annual-eb-erie-brewf"><span style="color:#FFFFFF\;"><span style="background-color:#FF0000\;">PURCHASE TICKETS</span></span></a></strong></span></span></p>\n\n<div -webkit-font-smoothing:="" antialiased="" font-size:="" open="" style="box-sizing: border-box\; font-family: Inter\, "><span style="font-family:verdana\;"><span style="font-size:16px\;"><span style="box-sizing: border-box\; -webkit-font-smoothing: antialiased !important\;">It&rsquo\;s time for the 2023 Erie Chamber of Commerce Annual EB Erie Brewfest!&nbsp\;</span></span></span></div>\n\n<div -webkit-font-smoothing:="" antialiased="" font-size:="" open="" style="box-sizing: border-box\; font-family: Inter\, ">&nbsp\;</div>\n\n<div -webkit-font-smoothing:="" antialiased="" font-size:="" open="" style="box-sizing: border-box\; font-family: Inter\, "><span style="font-family:verdana\;"><span style="font-size:16px\;">We look forward to a fantastic Brewfest in Erie\, Colorado.</span></span></div>\n\n<div -webkit-font-smoothing:="" antialiased="" font-size:="" open="" style="box-sizing: border-box\; font-family: Inter\, "><span style="font-family:verdana\;"><span style="font-size:16px\;">The day will include music\, food\, craft/service vendors\, games\, and Beer!!</span></span></div>\n\n<div -webkit-font-smoothing:="" antialiased="" font-size:="" open="" style="box-sizing: border-box\; font-family: Inter\, "><span style="font-family: verdana\; font-size: 16px\;">And...LOTS OF FUN! Rain\, Shine or whatever Colorado weather brings us.</span></div>\n\n<div -webkit-font-smoothing:="" antialiased="" font-size:="" open="" style="box-sizing: border-box\; font-family: Inter\, ">\n<p><span style="font-size: 16px\; font-family: verdana\;">No dogs are allowed</span></p>\n</div>\n\n<div -webkit-font-smoothing:="" antialiased="" font-size:="" open="" style="box-sizing: border-box\; font-family: Inter\, "><span style="font-family:verdana\;"><span style="font-size:16px\;">Special OFFER: Buy 2 tickets and save $5 EB - (Ends Friday October 6th at 8 am)</span></span></div>\n\n<div -webkit-font-smoothing:="" antialiased="" font-size:="" open="" style="box-sizing: border-box\; font-family: Inter\, "><span style="font-family:verdana\;"><span style="font-size:16px\;">Tickets: $40.00 online (Ends Friday October 6th at 8 am)</span></span></div>\n\n<div -webkit-font-smoothing:="" antialiased="" font-size:="" open="" style="box-sizing: border-box\; font-family: Inter\, "><span style="font-family:verdana\;"><span style="font-size:16px\;">Day of Tickets - $45.00 on site&nbsp\;</span></span></div>\n\n<div -webkit-font-smoothing:="" antialiased="" font-size:="" open="" style="box-sizing: border-box\; font-family: Inter\, "><strong style="font-family: verdana\; font-size: 16px\;"><span style="color: rgb(0\, 0\, 255)\;"><span style="font-size: 20px\;">Chamber Members contact us for a&nbsp\;discount code:&nbsp\;<br />\n303-828-3440/ <a href="http://erie@eriechamber.org">erie@eriechamber.org</a></span></span></strong><br />\n<br />\n<span style="font-family:verdana\;"><span style="font-size:16px\;"><strong><a href="https://www.coloradoboxoffice.com/e/2023-erie-chamber-of-commerce-annual-eb-erie-brewf"><span style="color: rgb(255\, 255\, 255)\;"><span style="background-color: rgb(255\, 0\, 0)\;">PURCHASE TICKETS</span></span></a></strong></span></span></div>\n\n<div -webkit-font-smoothing:="" antialiased="" font-size:="" open="" style="box-sizing: border-box\; font-family: Inter\, ">&nbsp\;</div>\n\n<div -webkit-font-smoothing:="" antialiased="" font-size:="" open="" style="box-sizing: border-box\; font-family: Inter\, "><span style="font-family:verdana\;"><span style="font-size:16px\;">All paying tickets include a commemorative Erie Brewfest glass</span></span></div>\n\n<div -webkit-font-smoothing:="" antialiased="" font-size:="" open="" style="box-sizing: border-box\; font-family: Inter\, ">&nbsp\;</div>\n\n<div -webkit-font-smoothing:="" antialiased="" font-size:="" open="" style="box-sizing: border-box\; font-family: Inter\, "><span style="font-family:verdana\;"><span style="font-size:16px\;"><span style="-webkit-font-smoothing: antialiased !important\; box-sizing: border-box\; font-weight: bolder\;">DESIGNATED DRIVER</span><br style="-webkit-font-smoothing: antialiased !important\; box-sizing: border-box\;" />\nFree admission but no beer\, wristband or commemorative beer glass. You must be 21 and older to enter event.</span></span></div>\n\n<div -webkit-font-smoothing:="" antialiased="" font-size:="" open="" style="box-sizing: border-box\; font-family: Inter\, ">&nbsp\;</div>\n\n<div -webkit-font-smoothing:="" antialiased="" font-size:="" open="" style="box-sizing: border-box\; font-family: Inter\, "><span style="font-family:verdana\;"><span style="font-size:16px\;">EB Brewfest is a 21 and older event.</span></span></div>\n\n<div -webkit-font-smoothing:="" antialiased="" font-size:="" open="" style="box-sizing: border-box\; font-family: Inter\, ">&nbsp\;</div>\n\n<div -webkit-font-smoothing:="" antialiased="" font-size:="" open="" style="box-sizing: border-box\; font-family: Inter\, "><span style="font-family:verdana\;"><span style="font-size:16px\;"><span style="-webkit-font-smoothing: antialiased !important\; box-sizing: border-box\; font-weight: bolder\;">Music -</span>&nbsp\;Slick and Machine</span></span></div>\n\n<div -webkit-font-smoothing:="" antialiased="" font-size:="" open="" style="box-sizing: border-box\; font-family: Inter\, ">&nbsp\;</div>\n\n<div -webkit-font-smoothing:="" antialiased="" font-size:="" open="" style="box-sizing: border-box\; font-family: Inter\, "><span style="font-family:verdana\;"><span style="font-size:16px\;">Food available for purchase at local downtown restaurants and event food trucks.&nbsp\;<a href="https://infinituspie.com/" style="-webkit-font-smoothing: antialiased !important\; box-sizing: border-box\; background-color: transparent\;" target="_blank">Infinitus Pie</a>\,&nbsp\;<a href="https://ccqfoodtruck.com/" style="-webkit-font-smoothing: antialiased !important\; box-sizing: border-box\; background-color: transparent\;" target="_blank">Chile</a></span></span></div>\n\n<div -webkit-font-smoothing:="" antialiased="" font-size:="" open="" style="box-sizing: border-box\; font-family: Inter\, "><span style="font-family:verdana\;"><span style="font-size:16px\;"><a href="https://ccqfoodtruck.com/" style="-webkit-font-smoothing: antialiased !important\; box-sizing: border-box\; background-color: transparent\;" target="_blank">Con Quesadillas</a>\,&nbsp\;<a href="https://gotruckster.com/food-truck/in-the-doghouse" style="-webkit-font-smoothing: antialiased !important\; box-sizing: border-box\; background-color: transparent\;" target="_blank">In The Doghouse</a>\, .</span></span></div>\n\n<div -webkit-font-smoothing:="" antialiased="" font-size:="" open="" style="box-sizing: border-box\; font-family: Inter\, ">&nbsp\;</div>\n\n<div -webkit-font-smoothing:="" antialiased="" font-size:="" open="" style="box-sizing: border-box\; font-family: Inter\, "><span style="font-family:verdana\;"><span style="font-size:16px\;">No ticket sales after 2:30 pm</span></span></div>\n\n<div -webkit-font-smoothing:="" antialiased="" font-size:="" open="" style="box-sizing: border-box\; font-family: Inter\, ">&nbsp\;</div>\n\n<div -webkit-font-smoothing:="" antialiased="" font-size:="" open="" style="box-sizing: border-box\; font-family: Inter\, "><span style="font-family:verdana\;"><span style="font-size:16px\;">No Ticket Refund or Exchanges</span></span></div>\n\n<div -webkit-font-smoothing:="" antialiased="" font-size:="" open="" style="box-sizing: border-box\; font-family: Inter\, ">&nbsp\;</div>\n\n<div -webkit-font-smoothing:="" antialiased="" font-size:="" open="" style="box-sizing: border-box\; font-family: Inter\, "><span style="font-family:verdana\;"><span style="font-size:16px\;">Participating Breweries &ndash\; 300 Suns Brewing\, Echo Brewing\, Elevated Seltzer\, Knuckle Puck Brewing\, Cellar West Artisan Ales\, The Old Mine\, Outworld Brewing\,&nbsp\; Satire Brewing Co.\, Mother Tucker Breweries\, Beyond the Mountain Brewing\, Sanitas Brewing Company\, Gravity Brewing\, Industrial Revolution\, Danico Brewing\, Westbound &amp\; Down\, Stem Cider\, Stirlini Coffee CO. (Canned Cocktail)</span></span></div>\n\n<div -webkit-font-smoothing:="" antialiased="" font-size:="" open="" style="box-sizing: border-box\; font-family: Inter\, "><span style="font-family:verdana\;"><span style="font-size:16px\;">MORE BREWERIES COMING DAILY!</span></span></div>\n\n<div -webkit-font-smoothing:="" antialiased="" font-size:="" open="" style="box-sizing: border-box\; font-family: Inter\, ">&nbsp\;</div>\n\n<div -webkit-font-smoothing:="" antialiased="" font-size:="" open="" style="box-sizing: border-box\; font-family: Inter\, "><span style="font-family:verdana\;"><span style="font-size:16px\;">For more information visit our website -&nbsp\;<a href="https://eriechamber.org/calendar-of-events/erie-brewfest-eb" style="-webkit-font-smoothing: antialiased !important\; box-sizing: border-box\; background-color: transparent\;" target="_blank">https://eriechamber.org/calendar-of-events/erie-brewfest-eb</a></span></span></div>\n\n<div -webkit-font-smoothing:="" antialiased="" font-size:="" open="" style="box-sizing: border-box\; font-family: Inter\, "><span style="font-family:verdana\;"><span style="font-size:16px\;">or contact the Erie Chamber</span></span></div>\n\n<div -webkit-font-smoothing:="" antialiased="" font-size:="" open="" style="box-sizing: border-box\; font-family: Inter\, "><span style="font-family:verdana\;"><span style="font-size:16px\;">Cory &ndash\; erie@eriechamber.org | 303-828-3440</span></span></div>\n\n<div -webkit-font-smoothing:="" antialiased="" font-size:="" open="" style="box-sizing: border-box\; font-family: Inter\, ">&nbsp\;</div>\n\n<div -webkit-font-smoothing:="" antialiased="" font-size:="" open="" style="box-sizing: border-box\; font-family: Inter\, "><span style="font-family:verdana\;"><span style="font-size:16px\;"><span style="-webkit-font-smoothing: antialiased !important\; box-sizing: border-box\; font-weight: bolder\;">THANK YOU TO OUR INVESTORS:</span></span></span></div>\n\n<div -webkit-font-smoothing:="" antialiased="" font-size:="" open="" style="box-sizing: border-box\; font-family: Inter\, "><span style="font-family:verdana\;"><span style="font-size:16px\;">Town of Erie\, Centura Avista Adventist Hospital\, 1st Bank\, Larkridge Shopping Center\, Nesheim&rsquo\;s\,&nbsp\;</span></span><span style="font-family:verdana\;"><span style="font-size:16px\;">ALLO Fiber\, UC Health\, Good Samaritan Hospital-Intermountain Healthcare\, Waste Connections of</span></span></div>\n\n<div -webkit-font-smoothing:="" antialiased="" font-size:="" open="" style="box-sizing: border-box\; font-family: Inter\, "><span style="font-family:verdana\;"><span style="font-size:16px\;">Colorado\, Blue Federal Credit Union\, Daily Camera Camera/Colorado Hometown Weekly</span></span></div>\n\n<div -webkit-font-smoothing:="" antialiased="" font-size:="" open="" style="box-sizing: border-box\; font-family: Inter\, ">&nbsp\;</div>\n\n<div -webkit-font-smoothing:="" antialiased="" font-size:="" open="" style="box-sizing: border-box\; font-family: Inter\, "><span style="font-family:verdana\;"><span style="font-size:16px\;"><span style="-webkit-font-smoothing: antialiased !important\; box-sizing: border-box\; font-weight: bolder\;">Thank you to our Sponsors:&nbsp\;</span></span></span></div>\n\n<div -webkit-font-smoothing:="" antialiased="" font-size:="" open="" style="box-sizing: border-box\; font-family: Inter\, "><span style="font-family:verdana\;"><span style="font-size:16px\;"><span style="-webkit-font-smoothing: antialiased !important\; box-sizing: border-box\; font-weight: bolder\;">Presenting Sponsor:&nbsp\; Allo Communications</span></span></span></div>\n\n<div -webkit-font-smoothing:="" antialiased="" font-size:="" open="" style="box-sizing: border-box\; font-family: Inter\, "><span style="font-family:verdana\;"><span style="font-size:16px\;"><span style="-webkit-font-smoothing: antialiased !important\; box-sizing: border-box\; font-weight: bolder\;">Glass Taster Sponsor - Urban Squeeze</span></span></span></div>\n\n<div -webkit-font-smoothing:="" antialiased="" font-size:="" open="" style="box-sizing: border-box\; font-family: Inter\, "><span style="font-family: verdana\, geneva\; font-size: 16px\;">Aire Serv of the Front Range\, United Power\, Jen Realty\, Lifetime Windows and Siding\, Peek Goldstone\, The Gallery at&nbsp\;Broomfield\, Renewal by Anderson\, Phoenix Realty and Property Management\, Bluebird Windows and Doors\, Scissors &amp\; Scotch\, Colorado Party Rentals\, Eldorado Natural Spring Water.</span></div>\n\n<div -webkit-font-smoothing:="" antialiased="" font-size:="" open="" style="box-sizing: border-box\; font-family: Inter\, ">&nbsp\;</div>\n\n<div -webkit-font-smoothing:="" antialiased="" font-size:="" open="" style="box-sizing: border-box\; font-family: Inter\, "><span style="font-family:verdana\;"><span style="font-size:20px\;"><span style="-webkit-font-smoothing: antialiased !important\; box-sizing: border-box\; font-weight: bolder\;">Frequently asked questions:</span></span></span><br style="-webkit-font-smoothing: antialiased !important\; box-sizing: border-box\;" />\n&nbsp\;</div>\n\n<div -webkit-font-smoothing:="" antialiased="" font-size:="" open="" style="box-sizing: border-box\; font-family: Inter\, "><span style="font-family:verdana\;"><span style="font-size:16px\;"><span style="-webkit-font-smoothing: antialiased !important\; box-sizing: border-box\; font-weight: bolder\;">If I&rsquo\;m not drinking do still need to purchase a ticket?</span></span></span></div>\n\n<div -webkit-font-smoothing:="" antialiased="" font-size:="" open="" style="box-sizing: border-box\; font-family: Inter\, "><span style="font-family:verdana\;"><span style="font-size:16px\;">No. Designated drivers and non-beer attendees do not need to purchase a ticket.&nbsp\;<br style="-webkit-font-smoothing: antialiased !important\; box-sizing: border-box\;" />\n<br style="-webkit-font-smoothing: antialiased !important\; box-sizing: border-box\;" />\n<span style="-webkit-font-smoothing: antialiased !important\; box-sizing: border-box\; font-weight: bolder\;">Can I purchase tickets day of event?</span><br style="-webkit-font-smoothing: antialiased !important\; box-sizing: border-box\;" />\nPresale tickets&nbsp\;may sell out before day of the event.<br style="-webkit-font-smoothing: antialiased !important\; box-sizing: border-box\;" />\nIf we don&#39\;t sell out then yes.&nbsp\; Tickets are more expensive day of event.</span></span></div>\n\n<div -webkit-font-smoothing:="" antialiased="" font-size:="" open="" style="box-sizing: border-box\; font-family: Inter\, ">&nbsp\;</div>\n\n<div -webkit-font-smoothing:="" antialiased="" font-size:="" open="" style="box-sizing: border-box\; font-family: Inter\, "><span style="font-family:verdana\;"><span style="font-size:16px\;"><span style="-webkit-font-smoothing: antialiased !important\; box-sizing: border-box\; font-weight: bolder\;">Can children attend the EB Erie Brewfest?</span></span></span></div>\n\n<div -webkit-font-smoothing:="" antialiased="" font-size:="" open="" style="box-sizing: border-box\; font-family: Inter\, "><span style="font-family:verdana\;"><span style="font-size:16px\;">Yes. Supervised children are welcome\, however\, please be aware this is an adult event and does not</span></span></div>\n\n<div -webkit-font-smoothing:="" antialiased="" font-size:="" open="" style="box-sizing: border-box\; font-family: Inter\, "><span style="font-family:verdana\;"><span style="font-size:16px\;">provide entertainment for children.<br style="-webkit-font-smoothing: antialiased !important\; box-sizing: border-box\;" />\n<br style="-webkit-font-smoothing: antialiased !important\; box-sizing: border-box\;" />\n<span style="-webkit-font-smoothing: antialiased !important\; box-sizing: border-box\; font-weight: bolder\;">Parking</span><br style="-webkit-font-smoothing: antialiased !important\; box-sizing: border-box\;" />\nIf you plan to partake in the festivities then please have a Designated Driver take you home.&nbsp\; There is parking on Town Streets (do not block driveways and fire hydrants).&nbsp\; No parking in the alleyways.&nbsp\; Parking lots are located at Town Hall - 645 Holbrook Street\, Coal Creek Park - 575 Kattell St.&nbsp\; (handicap parking available on a first come basis)</span></span><br style="-webkit-font-smoothing: antialiased !important\; box-sizing: border-box\;" />\n&nbsp\;</div>\n\n<div -webkit-font-smoothing:="" antialiased="" font-size:="" open="" style="box-sizing: border-box\; font-family: Inter\, "><span style="font-family:verdana\;"><span style="font-size:16px\;"><span style="-webkit-font-smoothing: antialiased !important\; box-sizing: border-box\; font-weight: bolder\;">Can I bring my dog?</span></span></span></div>\n\n<div -webkit-font-smoothing:="" antialiased="" font-size:="" open="" style="box-sizing: border-box\; font-family: Inter\, "><span style="font-family:verdana\;"><span style="font-size:16px\;">&nbsp\;No. Please note that dogs are not allowed inside the designated festival area.<br style="-webkit-font-smoothing: antialiased !important\; box-sizing: border-box\;" />\n<br style="-webkit-font-smoothing: antialiased !important\; box-sizing: border-box\;" />\n<span style="-webkit-font-smoothing: antialiased !important\; box-sizing: border-box\; font-weight: bolder\;">Is food included?</span><br style="-webkit-font-smoothing: antialiased !important\; box-sizing: border-box\;" />\nNo there will be several food truck you can purchase from.</span></span><br style="-webkit-font-smoothing: antialiased !important\; box-sizing: border-box\;" />\n&nbsp\;</div>\n\n<div -webkit-font-smoothing:="" antialiased="" font-size:="" open="" style="box-sizing: border-box\; font-family: Inter\, "><span style="font-family:verdana\;"><span style="font-size:16px\;"><span style="-webkit-font-smoothing: antialiased !important\; box-sizing: border-box\; font-weight: bolder\;">Can I take my beer outside the festival area?</span></span></span></div>\n\n<div -webkit-font-smoothing:="" antialiased="" font-size:="" open="" style="box-sizing: border-box\; font-family: Inter\, "><span style="font-family:verdana\;"><span style="font-size:16px\;">No. All alcohol must remain inside the designated festival area.</span></span></div>\n\n<div -webkit-font-smoothing:="" antialiased="" font-size:="" open="" style="box-sizing: border-box\; font-family: Inter\, ">&nbsp\;</div>\n\n<div -webkit-font-smoothing:="" antialiased="" font-size:="" open="" style="box-sizing: border-box\; font-family: Inter\, "><span style="font-family:verdana\;"><span style="font-size:16px\;"><span style="-webkit-font-smoothing: antialiased !important\; box-sizing: border-box\; font-weight: bolder\;">Can I bring alcohol into the designated festival area?</span></span></span></div>\n\n<div -webkit-font-smoothing:="" antialiased="" font-size:="" open="" style="box-sizing: border-box\; font-family: Inter\, "><span style="font-family:verdana\;"><span style="font-size:16px\;">No. Leave your alcohol at home but enjoy the many beers provided by all our local breweries.<br />\n<br />\n<span style="color: rgb(31\, 5\, 94)\; font-weight: 900\; word-spacing: normal\;">General Terms</span><br />\n<span style="word-spacing: normal\;">All items are non-refundable\, all sales are final.</span><br />\n<br />\n<span style="color: rgb(31\, 5\, 94)\; font-weight: 900\; word-spacing: normal\;">Refund Policy</span><br />\n<span style="word-spacing: normal\;">All items are non-refundable under any circumstances.</span><br />\n<br />\n<span style="color: rgb(31\, 5\, 94)\; font-weight: 900\; word-spacing: normal\;">Cancellation Policy</span><br />\n<span style="word-spacing: normal\;">The EB Brewfest will go on regardless of the weather.</span><br />\n<br />\n<span style="color: rgb(31\, 5\, 94)\; font-weight: 900\; word-spacing: normal\;">Age Restriction</span><br />\n<span style="word-spacing: normal\;">Must be 21 and older to drink alcohol</span></span></span><br />\n&nbsp\;</div>\n\n<div -webkit-font-smoothing:="" antialiased="" font-size:="" open="" style="box-sizing: border-box\; font-family: Inter\, ">&nbsp\;</div>\n\n<p>&nbsp\;</p>\n
LOCATION:Historic Downtown Erie on Briggs Street
UID:e.3666.851912
SEQUENCE:3
DTSTAMP:20260422T193412Z
URL:https://members.eriechamber.org/events/details/10th-annual-erie-brewfest-851912
END:VEVENT

END:VCALENDAR
