BEGIN:VCALENDAR
VERSION:2.0
PRODID:-//ChamberMaster//Event Calendar 2.0//EN
METHOD:PUBLISH
X-PUBLISHED-TTL:P3D
REFRESH-INTERVAL:P3D
CALSCALE:GREGORIAN
BEGIN:VEVENT
DTSTART:20240419T003000Z
DTEND:20240419T030000Z
X-MICROSOFT-CDO-ALLDAYEVENT:FALSE
SUMMARY:Annual Chamber Member Awards Dinner/Business Meeting
DESCRIPTION:BOOTS & BLING!\n\nONLINE REGISTRATION CLOSED \n\nWE HAVE A FEW SPACES LEFT.  PLEASE CALL THE CHAMBER @ 303-828-3440\n\nThe Erie Chamber Of Commerce \n\nis excited to gather our Chamber membership together to celebrate our \n\nAnnual Chamber Member Awards Dinner/Business Meeting!\n\nThe Annual Dinner reflects on the year's success\, recognizes outstanding members and looks ahead to 2024.\n\n\n\nPut on your cowboy boots\, add some bling to your dinner apparel and come prepared to have a great evening together with wonderful "cowboy cuisine".\n\nThe event will be held on Thursday\, April 18 from 6:30pm - 9:00pm @\n\nGood Samaritan Hospital\n\n200 Exempla Circle\, Lafayette\n\nNOTE - EVENT TIME CHANGE!\n\nThank you to Good Samaritan Medical Hospital for hosting and sponsoring this year's event.\n\nCocktail Hour | 6:30pm            Dinner | 7:15pm        Program Begins | 7:45pm\n\n2023 Erie Chamber Awards\n\nBusiness of the Year -  ALLO Fiber\n\nVolunteers of the Year -  David and Christina Thoutt\n\n\n\nYou Make A Difference -  Brie Fowler and Brandon Rearick \n\nThe Fowler Group\n\n \n\n$35 Per Person - Includes Dinner and Drinks\n\n                   RSVP's Required - Registration Limited to 80 tickets\n\n\n\nThank you to our Door Prize Sponsors:\n\n\n\nALLO Fiber\, Blue Federal Credit Union\, Cherry Cheesecakes\, Crown Trophy of Boulder\, David Thoutt Photography\, Erie Chamber of Commerce\, Erie Rotary Club\, Erie Social Club\, First Bank\, First Integrity Title\, Lew Miller BBQ\, M Fiona Lash Lounge\, Pearle Vision\, Phoenix Realty & Property Management\, Piripi\, Colorado Railbikes
X-ALT-DESC;FMTTYPE=text/html:<p style="text-align: center\;"><span style="font-family: Georgia\,serif\;"><span style="font-size:20px\;"><strong>BOOTS &amp\; BLING!</strong></span></span><br />\n<span style="font-family: Georgia\,serif\;"><span style="font-size:20px\;"><strong>ONLINE REGISTRATION CLOSED&nbsp\;</strong></span></span></p>\n\n<p style="text-align: center\;"><span style="font-family: Georgia\,serif\;"><span style="font-size:20px\;"><strong>WE HAVE A FEW SPACES LEFT.&nbsp\; PLEASE CALL THE CHAMBER @ 303-828-3440</strong></span><br />\n<span style="font-size:14px\;"><span style="font-family:arial\;">The Erie Chamber Of Commerce&nbsp\;</span></span></span><br />\n<span style="font-size:14px\;"><span style="font-family:arial\;">is excited to gather our Chamber membership together to celebrate our&nbsp\;<br />\n<strong fr-original-style="" style="font-weight: 700\;">Annual Chamber Member Awards Dinner/Business Meeting!</strong><br />\n<span background-color:="" font-weight:="" new="" text-align:="" times="" white-space-collapse:="">The Annual Dinner reflects on the year&#39\;s success\, recognizes outstanding members and looks ahead to 2024.</span><br />\n<br />\nPut on your cowboy boots\, add some bling to your dinner apparel and come prepared to have a great evening together with wonderful &quot\;cowboy cuisine&quot\;.</span></span></p>\n\n<p style="text-align: center\;"><span style="font-size:14px\;"><span style="font-family:arial\;">The event will be held on Thursday\, April 18 from 6:30pm - 9:00pm @<br />\nGood Samaritan Hospital<br />\n200 Exempla Circle\, Lafayette<br />\n<strong>NOTE - EVENT TIME CHANGE!</strong></span></span></p>\n\n<p style="text-align: center\;"><span style="font-size:14px\;"><span style="font-family:arial\;">Thank you to Good Samaritan Medical Hospital&nbsp\;for hosting and sponsoring this year&#39\;s event.</span></span></p>\n\n<p style="text-align: center\;"><span style="font-size:14px\;"><span style="font-family:arial\;">Cocktail Hour | 6:30pm &nbsp\;&nbsp\; &nbsp\; &nbsp\; &nbsp\; &nbsp\; Dinner | 7:15pm &nbsp\; &nbsp\; &nbsp\; &nbsp\;Program Begins | 7:45pm</span></span></p>\n\n<p style="text-align: center\;"><span style="font-size:14px\;"><span style="font-family:arial\;"><strong fr-original-style="" style="font-weight: 700\;">2023&nbsp\;Erie Chamber Awards</strong></span></span></p>\n\n<p style="text-align: center\;"><span style="font-size:14px\;"><span style="font-family:arial\;"><strong fr-original-style="" style="font-weight: 700\;">Business of the Year</strong> -&nbsp\; ALLO Fiber</span></span></p>\n\n<p style="text-align: center\;"><span style="font-size:14px\;"><span style="font-family:arial\;"><strong fr-original-style="" style="font-weight: 700\;">Volunteers of the Year</strong> -&nbsp\; David and Christina Thoutt<br />\n<br />\n<strong>You Make A Difference</strong> -&nbsp\;&nbsp\;Brie Fowler and Brandon Rearick&nbsp\;<br />\nThe Fowler Group</span></span></p>\n\n<p style="text-align: center\;">&nbsp\;</p>\n\n<p style="text-align: center\;"><span style="font-size:14px\;"><span style="font-family:arial\;">$35 Per Person - Includes Dinner and Drinks</span></span></p>\n\n<div style="text-align: center\;"><span style="font-size:14px\;"><span style="font-family:arial\;">&nbsp\; &nbsp\; &nbsp\; &nbsp\; &nbsp\; &nbsp\; &nbsp\; &nbsp\; &nbsp\; <strong>&nbsp\;RSVP&#39\;s Required - Registration Limited to 80 tickets<br />\n<br />\nThank you to our Door Prize Sponsors:</strong><br />\n<br />\n<span style="color:black\;">ALLO Fiber\, Blue Federal Credit Union\, Cherry Cheesecakes\, Crown Trophy of Boulder\, David Thoutt Photography\, Erie Chamber of Commerce\, Erie Rotary Club\, Erie Social Club\, First Bank\, First Integrity Title\, Lew Miller BBQ\, M Fiona Lash Lounge\, Pearle Vision\, Phoenix Realty &amp\; Property Management\, Piripi\, Colorado Railbikes</span></span></span><br />\n&nbsp\;</div>\n\n<p>&nbsp\;</p>\n\n<p><br />\n&nbsp\;</p>\n
LOCATION:Intermountain Health/Good Samaritan Hospital 200 Exempla Circle\, Lafayette You will take Hwy 287 turn left on Campus Drive. Continue on Campus Dr. to the east side of the Hospital. There is visitor parking on the East side. Enter through the main hospital entrance. Turn left\, walk down and you will see the Chamber signage on your left.
UID:e.3666.852190
SEQUENCE:3
DTSTAMP:20260422T103936Z
URL:https://members.eriechamber.org/events/details/annual-chamber-member-awards-dinner-business-meeting-852190
END:VEVENT

END:VCALENDAR
