BEGIN:VCALENDAR
VERSION:2.0
PRODID:-//ChamberMaster//Event Calendar 2.0//EN
METHOD:PUBLISH
X-PUBLISHED-TTL:P3D
REFRESH-INTERVAL:P3D
CALSCALE:GREGORIAN
BEGIN:VEVENT
DTSTART:20241012T180000Z
DTEND:20241012T200000Z
X-MICROSOFT-CDO-ALLDAYEVENT:FALSE
SUMMARY:Buffalini Primary Care - In Mode Evolve X Body Contouring and Triton Laser Hair Removal Launch
DESCRIPTION:Launch of 2 new machines - one for weight loss- tighten\, tone and transform your body with no down time\, no incision\, and Laser Hair removal now that the summer is over and get ready for next swim season .
X-ALT-DESC;FMTTYPE=text/html:Launch of 2 new machines - one for weight loss- tighten\, tone and transform your body with no down time\, no incision\, and Laser Hair removal now that the summer is over and get ready for next swim season .&nbsp\;&nbsp\;
LOCATION:606 S 4th Ave Brighton\, Co 80601
UID:e.3666.852437
SEQUENCE:3
DTSTAMP:20260421T225241Z
URL:https://members.eriechamber.org/events/details/buffalini-primary-care-in-mode-evolve-x-body-contouring-and-triton-laser-hair-removal-launch-852437
END:VEVENT

END:VCALENDAR
