BEGIN:VCALENDAR
VERSION:2.0
PRODID:-//ChamberMaster//Event Calendar 2.0//EN
METHOD:PUBLISH
X-PUBLISHED-TTL:P3D
REFRESH-INTERVAL:P3D
CALSCALE:GREGORIAN
BEGIN:VEVENT
DTSTART:20240119T000000Z
DTEND:20240119T020000Z
X-MICROSOFT-CDO-ALLDAYEVENT:FALSE
SUMMARY:Business After Hours hosted by Blue Federal Credit Union
DESCRIPTION:Business After Hours hosted by Blue Federal Credit Union\n\nStop by to meet the staff at Blue FCU\, see their facility\, hear about the great things they are doing for the community\, network with other Chamber members and enjoy drinks and appetizers.  What a great way to get back into the New Year!
X-ALT-DESC;FMTTYPE=text/html:Business After Hours hosted by Blue Federal Credit Union<br />\nStop by to meet the staff at Blue FCU\, see their facility\, hear about the great things they are doing for the community\, network with other Chamber members and enjoy drinks and appetizers.&nbsp\; What a great way to get back into the New Year!
LOCATION:Blue Federal Credit Union 2080 Village Vista Drive Erie 80516
UID:e.3666.852132
SEQUENCE:3
DTSTAMP:20260422T105857Z
URL:https://members.eriechamber.org/events/details/business-after-hours-hosted-by-blue-federal-credit-union-852132
END:VEVENT

END:VCALENDAR
