BEGIN:VCALENDAR
VERSION:2.0
PRODID:-//ChamberMaster//Event Calendar 2.0//EN
METHOD:PUBLISH
X-PUBLISHED-TTL:P3D
REFRESH-INTERVAL:P3D
CALSCALE:GREGORIAN
BEGIN:VEVENT
DTSTART:20240222T000000Z
DTEND:20240222T020000Z
X-MICROSOFT-CDO-ALLDAYEVENT:FALSE
SUMMARY:Business After Hours - The A Team - Updated Location -
DESCRIPTION:Business After Hours hosted by The A Team Networking Group \n\nUPDATED LOCATION:  ERIE CHAMBER OF COMMERCE - 235 WELLS ST.\, ERIE\n\n\n\nThe A Team networking group's mission is to provide an environment that is beneficial to its members to inspire the support and growth of each other's businesses.\n\n\n\nCome and meet members of The A Team\, network with other Chamber members and enjoy some appetizers and drinks.
X-ALT-DESC;FMTTYPE=text/html:<p><span style="font-family: Poppins\, sans-serif\; font-size: 16px\; background-color: rgb(255\, 255\, 255)\;"><span style="font-size:14px\;">Business After Hours hosted by The A Team Networking Group&nbsp\;</span></span></p>\n\n<p><span style="font-family: Poppins\, sans-serif\; background-color: rgb(255\, 255\, 255)\;"><strong><span style="color:#FF0000\;"><span style="font-size: 14px\;">UPDATED LOCATION:&nbsp\; ERIE CHAMBER OF COMMERCE - 235 WELLS ST.\, ERIE</span></span></strong><br />\n<br />\n<strong style="font-size: 16px\;">The A Team networking group&#39\;s mission is to provide an environment that is beneficial to its members to inspire the support and growth of each other&#39\;s businesses.</strong><br />\n<br />\n<span style="font-size: 14px\;">Come and meet members of The A Team\, network with other Chamber members and enjoy some appetizers and drinks</span><span style="font-size: 16px\;">.&nbsp\;</span></span></p>\n
LOCATION:Updated Location: Erie Chamber of Commerce 235 Wells St.\, Erie
UID:e.3666.852183
SEQUENCE:3
DTSTAMP:20260422T085649Z
URL:https://members.eriechamber.org/events/details/business-after-hours-the-a-team-updated-location-852183
END:VEVENT

END:VCALENDAR
