BEGIN:VCALENDAR
VERSION:2.0
PRODID:-//ChamberMaster//Event Calendar 2.0//EN
METHOD:PUBLISH
X-PUBLISHED-TTL:P3D
REFRESH-INTERVAL:P3D
CALSCALE:GREGORIAN
BEGIN:VEVENT
DTSTART:20240328T230000Z
DTEND:20240329T010000Z
X-MICROSOFT-CDO-ALLDAYEVENT:FALSE
SUMMARY:Business After Hours - The Gallery at Broomfield
DESCRIPTION:Join us for an amazing Business After Hours at \n\nThe Gallery at  Broomfield\, a Stellar Senior Living Community.\n\nEnjoy the beauty of this newly constructed facility\, learn about their senior services\, meet the staff\, enjoy some appetizers and drinks and network with other Chamber members.\n\nWe hope you can join  us!
X-ALT-DESC;FMTTYPE=text/html:Join us for an amazing Business After Hours at&nbsp\;<br />\nThe Gallery at&nbsp\; Broomfield\, a Stellar Senior Living Community.<br />\nEnjoy the beauty of this newly constructed facility\, learn about their senior services\, meet the staff\, enjoy some appetizers and drinks and network with other Chamber members.<br />\nWe hope you can join&nbsp\; us!
LOCATION:The Gallery at Broomfield 1450 West 169th Avenue Broomfield\, CO 80023
UID:e.3666.852208
SEQUENCE:3
DTSTAMP:20260422T085852Z
URL:https://members.eriechamber.org/events/details/business-after-hours-the-gallery-at-broomfield-852208
END:VEVENT

END:VCALENDAR
