BEGIN:VCALENDAR
VERSION:2.0
PRODID:-//ChamberMaster//Event Calendar 2.0//EN
METHOD:PUBLISH
X-PUBLISHED-TTL:P3D
REFRESH-INTERVAL:P3D
CALSCALE:GREGORIAN
BEGIN:VEVENT
DTSTART:20231026T230000Z
DTEND:20231027T010000Z
X-MICROSOFT-CDO-ALLDAYEVENT:FALSE
SUMMARY:Business After Hours @ The Germany Law Firm
DESCRIPTION:The Germany Law Firm will be hosting this month's Business After Hours.  Come to meet Susie Germany and her staff\, network with other Chamber members and enjoy some appetizers and drinks.
X-ALT-DESC;FMTTYPE=text/html:The Germany Law Firm will be hosting this month&#39\;s Business After Hours.&nbsp\; Come to meet Susie Germany and her staff\, network with other Chamber members and enjoy some appetizers and drinks.
LOCATION:The Germany Law Firm 77 Erie Village Square #100 Erie\, CO 80516
UID:e.3666.851921
SEQUENCE:3
DTSTAMP:20260422T153636Z
URL:https://members.eriechamber.org/events/details/business-after-hours-the-germany-law-firm-851921
END:VEVENT

END:VCALENDAR
