BEGIN:VCALENDAR
VERSION:2.0
PRODID:-//ChamberMaster//Event Calendar 2.0//EN
METHOD:PUBLISH
X-PUBLISHED-TTL:P3D
REFRESH-INTERVAL:P3D
CALSCALE:GREGORIAN
BEGIN:VEVENT
DTSTART:20240606T223000Z
DTEND:20240607T000000Z
X-MICROSOFT-CDO-ALLDAYEVENT:FALSE
SUMMARY:Business Unwind and Ribbon Cutting at Scissors & Scotch
DESCRIPTION:Business Unwind & Ribbon Cutting!\n\nThursday\, June 6\, 2024\n\n4:30 PM 6:00 PM\n\nThe Workday is Over and Now it's Time to Unwind With Your Fellow Chamber Members!\n\nCome celebrate with owners Reese and Carol Edwards\, meet the staff and join them for celebratory champagne and beer as they cut the ribbon on Erie's newest barbershop and bar. Come find out why Scissors and Scotch aims to be the "best damn part of your day." \n\nStay past the Ribbon Cutting for the Business Unwind and enjoy the full-service bar (beverages attendee responsibility) Come try their killer old fashioneds!
X-ALT-DESC;FMTTYPE=text/html:<title></title>\n<p>Business Unwind &amp\; Ribbon Cutting!<br />\nThursday\, June 6\, 2024<br />\n4:30 PM 6:00 PM</p>\n\n<p align="center" style="text-align:center"><span style="font-size:9.0pt\;\nfont-family:&quot\;Georgia&quot\;\,serif\;color:#333333">The Workday is Over and Now it&rsquo\;s Time to Unwind With Your Fellow Chamber Members!</span><span style="font-size:\n10.5pt\;font-family:&quot\;Verdana&quot\;\,sans-serif\;color:#303030"><o:p></o:p></span></p>\n\n<p align="center" style="text-align:center"><span style="font-size:9.0pt\;\nfont-family:&quot\;Georgia&quot\;\,serif\;color:black">Come celebrate with owners Reese and Carol Edwards\, meet the staff and join them for celebratory champagne and beer as they cut the ribbon on Erie&#39\;s newest <i>barbershop and bar.</i>&nbsp\;Come find out why Scissors and Scotch aims to be the &quot\;best damn part of your day.&quot\;&nbsp\;</span><span style="font-size:10.5pt\;font-family:&quot\;Verdana&quot\;\,sans-serif\;\ncolor:#303030"><o:p></o:p></span></p>\n\n<p align="center" style="text-align:center"><span style="font-size:9.0pt\;\nfont-family:&quot\;Georgia&quot\;\,serif\;color:black">Stay past the Ribbon Cutting for the Business Unwind and enjoy the full-service bar (beverages attendee responsibility)&nbsp\;Come try their killer old fashioneds!</span><span style="font-size:10.5pt\;font-family:&quot\;Verdana&quot\;\,sans-serif\;color:black">&nbsp\;&nbsp\;</span><span style="font-size:10.5pt\;font-family:&quot\;Verdana&quot\;\,sans-serif\;color:#303030"><o:p></o:p></span></p>\n
LOCATION:Scissors & Scotch 680 Mitchell Way Erie
UID:e.3666.852141
SEQUENCE:3
DTSTAMP:20260422T022731Z
URL:https://members.eriechamber.org/events/details/business-unwind-and-ribbon-cutting-at-scissors-scotch-852141
END:VEVENT

END:VCALENDAR
