BEGIN:VCALENDAR
VERSION:2.0
PRODID:-//ChamberMaster//Event Calendar 2.0//EN
METHOD:PUBLISH
X-PUBLISHED-TTL:P3D
REFRESH-INTERVAL:P3D
CALSCALE:GREGORIAN
BEGIN:VEVENT
DTSTART:20240201T233000Z
DTEND:20240202T010000Z
X-MICROSOFT-CDO-ALLDAYEVENT:FALSE
SUMMARY:Business Unwind
DESCRIPTION:Business Unwind \n\nThursday\, February 1\n\nErie Social Club\n\n105 Wells Street\, Erie\n\n\n\n\n\nThe workday is over and now it's time to UNWIND with your fellow Chamber members!\n\nErie Chamber of Commerce Business Unwind are free monthly gatherings that offer a chance to get to know one another.\n\nBeverage and food attendee responsibility.\n\n\n\nThis is a member only event. Interested in joining the Chamber? Contact Pat - pat@eriechamber.org
X-ALT-DESC;FMTTYPE=text/html:<p style="color: rgb(0\, 0\, 0)\; font-family: Arial\; font-size: medium\;"><span style="font-family:tahoma\;"><span style="color: rgb(0\, 0\, 0)\; font-size: medium\; background-image: initial\; background-position: initial\; background-size: initial\; background-repeat: initial\; background-attachment: initial\; background-origin: initial\; background-clip: initial\;"><span style="font-size: 12pt\;">Business Unwind&nbsp\;</span></span><br style="color: rgb(0\, 0\, 0)\; font-family: Arial\; font-size: medium\;" />\n<span style="color: black\; font-size: medium\;"><span style="font-size: 12pt\;"><span style="background-image: initial\; background-position: initial\; background-size: initial\; background-repeat: initial\; background-attachment: initial\; background-origin: initial\; background-clip: initial\;">Thursday\, February 1</span><br />\n<span style="background-image: initial\; background-position: initial\; background-size: initial\; background-repeat: initial\; background-attachment: initial\; background-origin: initial\; background-clip: initial\;">Erie Social Club</span></span></span><br />\n<span style="color: black\; font-size: medium\;"><span style="font-size: 12pt\;">105 Wells Street\, Erie</span></span><br />\n<br />\n<br style="color: rgb(0\, 0\, 0)\; font-family: Arial\; font-size: medium\;" />\nThe&nbsp\;workday is over and now it&#39\;s time to UNWIND with your fellow Chamber members!<br />\nErie Chamber of Commerce Business Unwind are free monthly gatherings that offer a chance to get to know one another.<br />\nBeverage and food attendee responsibility.<br />\n<br />\nThis is a member only event. Interested in joining the Chamber? Contact Pat - pat@eriechamber.org</span></p>\n
LOCATION:The Erie Social Club 105 Wells Street\, Erie
UID:e.3666.851947
SEQUENCE:3
DTSTAMP:20260422T144235Z
URL:https://members.eriechamber.org/events/details/business-unwind-the-old-mine-02-01-2024-851947
END:VEVENT

END:VCALENDAR
