BEGIN:VCALENDAR
VERSION:2.0
PRODID:-//ChamberMaster//Event Calendar 2.0//EN
METHOD:PUBLISH
X-PUBLISHED-TTL:P3D
REFRESH-INTERVAL:P3D
CALSCALE:GREGORIAN
BEGIN:VEVENT
DTSTART:20240307T233000Z
DTEND:20240308T010000Z
X-MICROSOFT-CDO-ALLDAYEVENT:FALSE
SUMMARY:Business Unwind
DESCRIPTION:Business Unwind \n\n1st Thursday of each month\n\n4:30 PM - 6:00 PM\n\n\n\n\n\nThe work day is over and now it's time to UNWIND with your fellow Chamber members!\n\n\n\nErie Chamber of Commerce Business Unwind are free monthly gatherings that offer a chance to get to know one another.\n\n\n\n Beverage and food attendee responsibility.\n\nThis is a member only event. Interested in joining the Chamber? Contact Pat - pat@eriechamber.org
X-ALT-DESC;FMTTYPE=text/html:<p style="color: rgb(0\, 0\, 0)\; font-family: Arial\; font-size: medium\;">Business Unwind&nbsp\;<br />\n1st Thursday of each month<br />\n4:30 PM - 6:00 PM<br />\n<br />\n<br style="color: rgb(0\, 0\, 0)\; font-family: Arial\; font-size: medium\;" />\nThe&nbsp\;work day is over and now it&#39\;s time to UNWIND with your fellow Chamber members!<br />\n<br />\nErie Chamber of Commerce Business Unwind are free monthly gatherings that offer a chance to get to know one another.<br />\n<br />\n&nbsp\;Beverage and food attendee responsibility.</p>\n\n<p style="color: rgb(0\, 0\, 0)\; font-family: Arial\; font-size: medium\;">This is a member only event. Interested in joining the Chamber? Contact Pat - pat@eriechamber.org</p>\n
LOCATION:The Dugout Grill & Bar 149 S. Briggs Street\, #105A
UID:e.3666.851948
SEQUENCE:3
DTSTAMP:20260422T114246Z
URL:https://members.eriechamber.org/events/details/business-unwind-the-old-mine-03-07-2024-851948
END:VEVENT

END:VCALENDAR
