BEGIN:VCALENDAR
VERSION:2.0
PRODID:-//ChamberMaster//Event Calendar 2.0//EN
METHOD:PUBLISH
X-PUBLISHED-TTL:P3D
REFRESH-INTERVAL:P3D
CALSCALE:GREGORIAN
BEGIN:VEVENT
DTSTART:20240726T140000Z
DTEND:20240726T150000Z
X-MICROSOFT-CDO-ALLDAYEVENT:FALSE
SUMMARY:Cancelled - Coffee Connections
DESCRIPTION:This month's Coffee Connection is Cancelled\nOur next newly enhanced Coffee Connections is now on the 4th Thursday of every month from 8:00 to 9:00 am at Allo Fiber\, 700 Briggs Street.\n\nCoffee Connection is the perfect way to kick off your business day. Enjoy a cup of coffee and pastries\, engage in stimulating conversations\, and share business tips and leads. Build new connections with Chamber Members\, Board of Directors\, and Ambassadors!\n\nThis month's 10 minute speaker is:  Allo Fiber\n\nA big thank you to Allo Fiber for hosting us in our new\, larger location.
X-ALT-DESC;FMTTYPE=text/html:This month&#39\;s Coffee Connection is Cancelled\n<p>Our next newly enhanced Coffee Connections is now on the&nbsp\;4th Thursday of every month from 8:00 to 9:00 am at Allo Fiber\, 700 Briggs Street.</p>\n\n<p>Coffee Connection is the perfect way to kick off your business day. Enjoy a cup of coffee and pastries\, engage in stimulating conversations\, and share business tips and leads. Build new connections with Chamber Members\, Board of Directors\, and Ambassadors!</p>\n\n<p>This month&#39\;s 10 minute speaker is:&nbsp\; Allo Fiber</p>\n\n<p>A big thank you to Allo Fiber for hosting us in our new\, larger location.</p>\n
LOCATION:cancelled
UID:e.3666.852384
SEQUENCE:3
DTSTAMP:20260422T052932Z
URL:https://members.eriechamber.org/events/details/cancelled-coffee-connections-852384
END:VEVENT

END:VCALENDAR
