BEGIN:VCALENDAR
VERSION:2.0
PRODID:-//ChamberMaster//Event Calendar 2.0//EN
METHOD:PUBLISH
X-PUBLISHED-TTL:P3D
REFRESH-INTERVAL:P3D
CALSCALE:GREGORIAN
BEGIN:VEVENT
DTSTART:20231028T140000Z
DTEND:20231028T170000Z
X-MICROSOFT-CDO-ALLDAYEVENT:FALSE
SUMMARY:Coat and christmas light drive to keep Colorado Warm this holiday season
DESCRIPTION:Please join us for our 5th Annual Coat Drive at Vista Ridge Community Center in Erie on Oct. 28th. We are collecting new or gently used coats again this year to help keep Colorado warm for less fortunate families. We have also added the Stand and Fight Foundation which is an amazing non profit. We are gather new Christmas lights to help families brighten the season for their child's room at Children Hospital. We'd love to see you. Please stop by.
X-ALT-DESC;FMTTYPE=text/html:<span style="background-color:rgb(255\, 255\, 255)\; color:rgb(5\, 5\, 5)\; font-family:segoe ui historic\,segoe ui\,helvetica\,arial\,sans-serif\; font-size:15px">Please join us for our 5th Annual Coat Drive at Vista Ridge Community Center in Erie on Oct. 28th. We are collecting new or gently used coats again this year to help keep Colorado warm for less fortunate families. We have also added the Stand and Fight Foundation which is an amazing non profit. We are gather new Christmas lights to help families brighten the season for their child&#39\;s room at Children Hospital. We&#39\;d love to see you. Please stop by.</span>
LOCATION:Vista Ridge Community Center\, Erie
UID:e.3666.852070
SEQUENCE:3
DTSTAMP:20260422T181252Z
URL:https://members.eriechamber.org/events/details/coat-and-christmas-light-drive-to-keep-colorado-warm-this-holiday-season-852070
END:VEVENT

END:VCALENDAR
