BEGIN:VCALENDAR
VERSION:2.0
PRODID:-//ChamberMaster//Event Calendar 2.0//EN
METHOD:PUBLISH
X-PUBLISHED-TTL:P3D
REFRESH-INTERVAL:P3D
CALSCALE:GREGORIAN
BEGIN:VEVENT
DTSTART:20310522T140000Z
DTEND:20310522T150000Z
X-MICROSOFT-CDO-ALLDAYEVENT:FALSE
SUMMARY:Coffee Connections - 4th Thursday of each month
DESCRIPTION:Welcome to our newly enhanced Coffee Connections!\n\nJoin us on the 4th Thursday of every month from 8:00 9:00 am at Orchard Community Church.\n\nA special thank you to Orchard Community Church for opening their space for our meeting.\n\nCoffee Connections is the perfect way to kick off your business day. Enjoy a cup of coffee and pastries\, engage in stimulating conversations\, and share business tips and leads. Build new connections with Chamber Members\, Board of Directors\, and Ambassadors!\n\nEach month there is a 10-minute speaker.\n\nThis month is:
X-ALT-DESC;FMTTYPE=text/html:<p data-end="146" data-start="93"><strong data-end="146" data-start="93">Welcome to our newly enhanced Coffee Connections!</strong></p>\n\n<p data-end="338" data-start="148">Join us on the <strong data-end="212" data-start="163">4th Thursday of every month from 8:00&ndash\;9:00 am</strong> at <strong data-end="244" data-start="216">Orchard Community Church</strong>.<br data-end="248" data-start="245" />\n<em data-end="338" data-start="248">A special thank you to Orchard Community Church for opening their space for our meeting.</em></p>\n\n<p data-end="597" data-start="340">Coffee Connections is the perfect way to kick off your business day. Enjoy a cup of coffee and pastries\, engage in stimulating conversations\, and share business tips and leads. Build new connections with Chamber Members\, Board of Directors\, and Ambassadors!</p>\n\n<p data-end="666" data-start="599">Each month there is a <strong data-end="642" data-start="621">10-minute speaker</strong>.<br data-end="646" data-start="643" />\n<strong data-end="664" data-start="646">This month is:</strong></p>\n\n<p>&nbsp\;</p>\n
LOCATION:Orchard Community Church 470 Briggs Street\, Erie
UID:e.3666.852339
SEQUENCE:3
DTSTAMP:20260424T134710Z
URL:https://members.eriechamber.org/events/details/coffee-connections-4th-thursday-of-each-month-05-22-2031-852339
END:VEVENT

END:VCALENDAR
