BEGIN:VCALENDAR
VERSION:2.0
PRODID:-//ChamberMaster//Event Calendar 2.0//EN
METHOD:PUBLISH
X-PUBLISHED-TTL:P3D
REFRESH-INTERVAL:P3D
CALSCALE:GREGORIAN
BEGIN:VEVENT
DTSTART:20241024T140000Z
DTEND:20241024T150000Z
X-MICROSOFT-CDO-ALLDAYEVENT:FALSE
SUMMARY:Coffee Connections - 4th Thursday of each month
DESCRIPTION:Welcome to our newly enhanced Coffee Connections!\n\nJoin us on the 4th Thursday of every month from 8:00 to 9:00 am at Allo Fiber\, 700 Briggs Street.\n\nCoffee Connection is the perfect way to kick off your business day. Enjoy a cup of coffee and pastries\, engage in stimulating conversations\, and share business tips and leads. Build new connections with Chamber Members\, Board of Directors\, and Ambassadors!\n\nThe 10 minute speaker for October is Dr. Jared from Chiropractic Center of Erie\n\nA big thank you to Allo Fiber for hosting us in our new\, larger location.
X-ALT-DESC;FMTTYPE=text/html:<p>Welcome to our newly enhanced Coffee Connections!</p>\n\n<p>Join us on the 4th Thursday of every month from 8:00 to 9:00 am at Allo Fiber\, 700 Briggs Street.</p>\n\n<p>Coffee Connection is the perfect way to kick off your business day. Enjoy a cup of coffee and pastries\, engage in stimulating conversations\, and share business tips and leads. Build new connections with Chamber Members\, Board of Directors\, and Ambassadors!</p>\n\n<p>The 10 minute speaker for October is Dr. Jared from&nbsp\;Chiropractic Center of Erie</p>\n\n<p>A big thank you to Allo Fiber for hosting us in our new\, larger location.</p>\n
LOCATION:New location: Allo Fiber 700 Briggs Street
UID:e.3666.852260
SEQUENCE:3
DTSTAMP:20260422T013522Z
URL:https://members.eriechamber.org/events/details/coffee-connections-4th-thursday-of-each-month-10-24-2024-852260
END:VEVENT

END:VCALENDAR
