BEGIN:VCALENDAR
VERSION:2.0
PRODID:-//ChamberMaster//Event Calendar 2.0//EN
METHOD:PUBLISH
X-PUBLISHED-TTL:P3D
REFRESH-INTERVAL:P3D
CALSCALE:GREGORIAN
BEGIN:VEVENT
DTSTART:20240720T150000Z
DTEND:20240721T220000Z
X-MICROSOFT-CDO-ALLDAYEVENT:FALSE
SUMMARY:Colorado State Track Championships at the Boulder Valley Velodrome
DESCRIPTION:Come out this weekend Saturday and Sunday to watch the Colorado State Track Championship at the Boulder Valley Velodrome! Support our local riders. Several local riders are headed to the Summer Olympics in Paris! Races start at 11 AM\, doors open at 9 AM. www.bouldervalleyvelodrome.org
X-ALT-DESC;FMTTYPE=text/html:<span style="color:rgb(66\, 66\, 66)\; font-family:arial\,helvetica\,sans-serif\; font-size:12px">Come out this weekend Saturday and Sunday to watch the Colorado State Track Championship at the Boulder Valley Velodrome! Support our local riders. Several local riders are headed to the Summer Olympics in Paris! Races start at 11 AM\, doors open at 9 AM. www.bouldervalleyvelodrome.org</span>
LOCATION:
UID:e.3666.852256
SEQUENCE:3
DTSTAMP:20260422T004111Z
URL:https://members.eriechamber.org/events/details/colorado-state-cycling-championships-852256
END:VEVENT

END:VCALENDAR
