BEGIN:VCALENDAR
VERSION:2.0
PRODID:-//ChamberMaster//Event Calendar 2.0//EN
METHOD:PUBLISH
X-PUBLISHED-TTL:P3D
REFRESH-INTERVAL:P3D
CALSCALE:GREGORIAN
BEGIN:VEVENT
DTSTART:20240327T140000Z
DTEND:20240327T153000Z
X-MICROSOFT-CDO-ALLDAYEVENT:FALSE
SUMMARY:Communting Solutions March Membership Meeting
DESCRIPTION:Mark your calendars and plan to join us for our Membership Meeting on March 27 at Butterfly Pavilion. This meeting's agenda is one you won't want to miss! We have a great slate of speakers lined up who will be able to shed some light on bills currently under consideration by our legislators\, as well as anticipated bills to come. \n\n\n\nRegister today and don't miss this exciting agenda. You'll also have the exclusive opportunity to influence regional transportation and planning efforts and be able to network with people across the region in different sectors! See agenda details below.\n\n\n\nFor more event information:\n\n\n\nDate: March 27\, 2024\n\nTime: 8:00 a.m. ? 9:30 a.m.\n\nLocation: Butterfly Pavilion\n\n6252 W 104th Ave.\, Westminster\, CO\n\nMembers: Free registration\n\nNon-Members: $50\n\nMembers should have a discount code.
X-ALT-DESC;FMTTYPE=text/html:<span style="color:#202020"><span style="font-family:helvetica\,sans-serif">Mark your calendars and plan to join us for our Membership Meeting on&nbsp\;March 27 at Butterfly Pavilion. This meeting&#39\;s agenda is one you won&#39\;t want to miss! We have a great slate of speakers lined up who will be able to shed some light on bills&nbsp\;currently under consideration by our legislators\, as well as anticipated bills to come.&nbsp\;<br />\n<br />\nRegister today and don&#39\;t miss this exciting agenda. You&#39\;ll also have the&nbsp\;exclusive opportunity to influence regional transportation and planning efforts and be able to network with people across the region in different sectors! See agenda details below.<br />\n<br />\n<a href="https://mailchi.mp/commutingsolutions/7th-sustainable-transportation-summit-early-bird-registration-is-open-14099766?e=19014430f1">For more event information:</a></span></span><br />\n<br />\n<strong><span style="color:#202020"><span style="font-family:helvetica\,sans-serif"><span style="font-size:12.0pt">Date: March 27\, 2024</span></span></span></strong><br />\n<span style="color:#202020"><span style="font-family:helvetica\,sans-serif"><span style="font-size:12.0pt"><strong>Time:</strong>&nbsp\;8:00 a.m. ? 9:30 a.m.<br />\n<strong>Location:&nbsp\;</strong>Butterfly Pavilion<br />\n6252 W 104<sup>th</sup>&nbsp\;Ave.\, Westminster\, CO<br />\n<strong>Members:</strong>&nbsp\;Free registration<br />\n<strong>Non-Members</strong>:&nbsp\;$50<br />\nMembers should have a discount code.</span></span></span>
LOCATION:Butterfly Pavilion 6252 W 104th Ave.\, Westminster\, CO
UID:e.3666.852206
SEQUENCE:3
DTSTAMP:20260422T101403Z
URL:https://members.eriechamber.org/events/details/communting-solutions-march-membership-meeting-852206
END:VEVENT

END:VCALENDAR
