BEGIN:VCALENDAR
VERSION:2.0
PRODID:-//ChamberMaster//Event Calendar 2.0//EN
METHOD:PUBLISH
X-PUBLISHED-TTL:P3D
REFRESH-INTERVAL:P3D
CALSCALE:GREGORIAN
BEGIN:VEVENT
DTSTART:20260519T134500Z
DTEND:20260519T144500Z
X-MICROSOFT-CDO-ALLDAYEVENT:FALSE
SUMMARY:Erie Health & Wellness Alliance
DESCRIPTION:Our mission is to strengthen interdisciplinary understanding among Erie-area healthcare providers in oder to improve patient experience and clinical coordination across the community.\n\n\nOver the past several years\, we've seen a shift in healthcare that has left many independent providers more disconnected and navigating care separately. As private practices grow and patients take a more active role in their health\, both patients and providers are finding it harder to connect with the right resources. The Erie Health & Wellness alliance is a profession-neutral forum designed to bring private local healthcare providers together for structured professional connection and case-based discussion. \n\n\n\nThis initiative is not sales-driven and not structured around referral quotas. It is a facilitated forum focused on clarity\, trust\, and professional development.  We created this group to bridge that gap\, bringing providers together to build stronger relationships\, increase visibility\, and create a more connected\, accessible network for our community.\n\n \nOver time\, this will elvove into a strong\, reliable network\, allowing providers to confidently connect patients with other trusted professionals and ultimately create more comprehensive\, collaborative care for families in our community. To maintain quality and balance\, we are including two accredited professionals per specialty\, on a first-come\, first-served basis.\n\n\n\nIf you were interested in attending\, please contact Hailie at eriehealthandwellnessalliance@gmail.com\n\nAttendance is invite only.
X-ALT-DESC;FMTTYPE=text/html:<div style="background:rgb(250\, 250\, 250)\; border:0px\; padding:0px">\n<div style="background:transparent\; border:0px\; padding:0px">Our mission is to strengthen interdisciplinary understanding among Erie-area healthcare providers in oder to improve patient experience and clinical coordination across the community.</div>\n</div>\n\n<div style="background:rgb(250\, 250\, 250)\; border:0px\; padding:0px"><span style="font-size:14px"><span style="font-family:arial">Over the past several years\, we&rsquo\;ve seen a shift in healthcare that has left many independent providers more disconnected and navigating care separately. As private practices grow and patients take a more active role in their health\, both patients and providers are finding it harder to connect with the right resources.&nbsp\;<span style="color:rgb(34\, 34\, 34)">The Erie Health &amp\; Wellness alliance is a profession-neutral forum designed to bring private local healthcare providers&nbsp\;together for structured&nbsp\;professional connection and case-based discussion.&nbsp\;</span><br />\n<br />\n<span style="color:rgb(34\, 34\, 34)">This initiative is not sales-driven and not structured around referral quotas. It is a facilitated forum focused on clarity\, trust\, and professional development.&nbsp\;&nbsp\;</span>We created this group to bridge that gap\, bringing providers together to build stronger relationships\, increase visibility\, and create a more connected\, accessible network for our community.</span></span><br />\n&nbsp\;\n<div style="background:transparent\; border:0px\; padding:0px"><span style="font-size:14px"><span style="font-family:arial">Over time\, this will elvove into a strong\, reliable network\, allowing providers to confidently connect patients with other trusted professionals and ultimately create more comprehensive\, collaborative care for families in our community. To maintain quality and balance\, we are including two accredited professionals per specialty\, on a first-come\, first-served basis.<br />\n<br />\nIf you were interested in attending\, please contact Hailie at eriehealthandwellnessalliance@gmail.com<br />\nAttendance is invite only.&nbsp\;</span></span></div>\n</div>\n
LOCATION:Erie Chamber Building 235 Wells St Erie\, CO\, 80516
UID:e.3666.853996
SEQUENCE:3
DTSTAMP:20260422T172221Z
URL:https://members.eriechamber.org/events/details/erie-health-wellness-alliance-853996
END:VEVENT

END:VCALENDAR
