BEGIN:VCALENDAR
VERSION:2.0
PRODID:-//ChamberMaster//Event Calendar 2.0//EN
METHOD:PUBLISH
X-PUBLISHED-TTL:P3D
REFRESH-INTERVAL:P3D
CALSCALE:GREGORIAN
BEGIN:VEVENT
DTSTART:20231202T011500Z
DTEND:20231228T033000Z
X-MICROSOFT-CDO-ALLDAYEVENT:FALSE
SUMMARY:Erie Parade of Lights Live Stream
DESCRIPTION:Erie Parade of Lights Live Stream\n\nPresented by Allo Fiber\n\nWas held on December 1st\, 2023\n\n\n\nIt was an amazing evening! The Erie Chamber Parade of Lights did not disappoint.\n\nIf you missed this magical event just click on the Live Stream Link below.\n\n\n\n\n\n LIVE STREAM LINK
X-ALT-DESC;FMTTYPE=text/html:<p><span style="white-space-collapse: preserve\;">Erie Parade of Lights Live Stream<br />\nPresented by Allo Fiber<br />\nWas held on December 1st\, 2023<br />\n<br />\nIt was an amazing evening! The Erie Chamber Parade of Lights did not disappoint.<br />\nIf you missed this magical event just click on the Live Stream Link below.</span><br />\n<br />\n<br />\n<span style="font-size:22px\;"><strong><a href="https://www.youtube.com/watch?v=hmLa09I_nzs&amp\;ab_channel=13%E2%80%A231KREATIVE"><span style="background-color:#FF0000\;">&nbsp\;</span></a><a href="https://www.youtube.com/watch?v=hmLa09I_nzs&amp\;ab_channel=13%E2%80%A231KREATIVE"><span style="color:#FFFFFF\;"><span style="background-color:#FF0000\;">LIVE STREAM LINK</span></span></a></strong></span></p>\n\n<p><br />\n<br />\n&nbsp\;</p>\n
LOCATION:Comfort of your own home Live Stream Link
UID:e.3666.852126
SEQUENCE:3
DTSTAMP:20260422T141030Z
URL:https://members.eriechamber.org/events/details/erie-parade-of-lights-live-stream-852126
END:VEVENT

END:VCALENDAR
