BEGIN:VCALENDAR
VERSION:2.0
PRODID:-//ChamberMaster//Event Calendar 2.0//EN
METHOD:PUBLISH
X-PUBLISHED-TTL:P3D
REFRESH-INTERVAL:P3D
CALSCALE:GREGORIAN
BEGIN:VEVENT
DTSTART:20240727T160000Z
DTEND:20240728T050000Z
X-MICROSOFT-CDO-ALLDAYEVENT:FALSE
SUMMARY:Erie Town Appreciation Day at Boulder Valley Velodrome!
DESCRIPTION:Erie Town Appreciation Day!\n\nIt doesn't get any better than a full free day at the track.\n\n* 10 AM Saturday morning TT's are free to certified riders\, free pickleball\, and try the track/try a fixed gear bike\, free open track sessions for certified riders in the afternoon\, 3 gravel rides leaving from the BVV\n\n* 3pm and a free cookout starting at 5:30.\n\n*If that wasn't enough\, we have live music too and a movie premiere.\n\n*5:30 PM Spare Change featuring Big Daddy Ty will get going \n\n*8:30 PM Mystery Tour Japan bike packing movie premiere will start when the sun goes down!
X-ALT-DESC;FMTTYPE=text/html:<p style="text-align:center"><strong>Erie Town Appreciation Day!</strong></p>\n\n<p style="text-align:center">It doesn&#39\;t get any better than a full free day at the track.</p>\n\n<p style="text-align:center">* 10 AM Saturday morning TT&#39\;s are free to certified riders\, free pickleball\, and try the track/try a fixed gear bike\, free open track sessions for certified riders in the afternoon\, 3 gravel rides leaving from the BVV<br />\n*&nbsp\;3pm and a free cookout starting at 5:30.</p>\n\n<p style="text-align:center">*If that wasn&#39\;t enough\, we have live music too and a movie premiere.</p>\n\n<p style="text-align:center">*5:30 PM Spare Change featuring Big Daddy Ty will get going&nbsp\;</p>\n\n<p style="text-align:center">*8:30 PM Mystery Tour Japan bike packing movie premiere will start when the sun goes down!&nbsp\;</p>\n
LOCATION:Boulder Valley Velodrome 601 Bonnell Ave Erie\, CO 80516
UID:e.3666.852257
SEQUENCE:3
DTSTAMP:20260422T003856Z
URL:https://members.eriechamber.org/events/details/erie-town-appreciation-day-at-boulder-valley-velodrome-852257
END:VEVENT

END:VCALENDAR
