BEGIN:VCALENDAR
VERSION:2.0
PRODID:-//ChamberMaster//Event Calendar 2.0//EN
METHOD:PUBLISH
X-PUBLISHED-TTL:P3D
REFRESH-INTERVAL:P3D
CALSCALE:GREGORIAN
BEGIN:VEVENT
DTSTART:20240602T000000Z
DTEND:20240602T030000Z
X-MICROSOFT-CDO-ALLDAYEVENT:FALSE
SUMMARY:Grand Opening of Young Explorers - Toy Store and Creation Space
DESCRIPTION:You and a guest are invited to experience the magic of the Young Explorers space designed to encourage the adventure of imagination and learning through PLAY!\n\n\n\nart making | bites and beverages\n\n\n\nSaturday\, June 1st - 6-9pm\n\n545 Briggs St.\, Erie\, CO\n\nRSVP by May 28th to Fatma Wahedi or Bree Angela at\n\nhello@youngexplorersco.com
X-ALT-DESC;FMTTYPE=text/html:You and a guest are invited to experience the magic of the Young Explorers space designed to encourage the adventure of imagination and learning through PLAY!<br />\n<br />\nart making | bites and beverages<br />\n<br />\nSaturday\, June 1st - 6-9pm<br />\n545 Briggs St.\, Erie\, CO<br />\nRSVP by May 28th to Fatma Wahedi or Bree Angela at<br />\n<a href="mailto:hello@youngexplorersco.com" target="_blank">hello@youngexplorersco.com</a>&nbsp\;
LOCATION:545 Briggs St.\, Erie\, CO
UID:e.3666.852232
SEQUENCE:3
DTSTAMP:20260422T022644Z
URL:https://members.eriechamber.org/events/details/grand-opening-of-young-explorers-toy-store-and-creation-space-852232
END:VEVENT

END:VCALENDAR
