BEGIN:VCALENDAR
VERSION:2.0
PRODID:-//ChamberMaster//Event Calendar 2.0//EN
METHOD:PUBLISH
X-PUBLISHED-TTL:P3D
REFRESH-INTERVAL:P3D
CALSCALE:GREGORIAN
BEGIN:VEVENT
DTSTART:20240405T000000Z
DTEND:20240405T020000Z
X-MICROSOFT-CDO-ALLDAYEVENT:FALSE
SUMMARY:Homebuying and HOPS FOR HEROES
DESCRIPTION:Join Jody Blumenshine\, Loan Originator for Prime Lending:\n\nHomebuying and HOPS FOR HEROES\n\nFood & Drink Provided\n\nAttendees will receive a FREE home warranty after closing \n\n\n	Navigating the Market\n	New vs Resale Home\n	What if I need to Sell\n	First Time Homebuyers\n	Home Insurance\n	Lending Options\n\nHosted by:\n\nKyle Michel- RE/MAX Momentum\n\nJody Blumenshine\, Loan Originator\, NMLS: 728824\n\n5613 DTC Parkway\, Ste 750 | Greenwood Village\, CO 80111\n\nMelissa Rippy- Exclusive Agent Allstate
X-ALT-DESC;FMTTYPE=text/html:<p>Join Jody Blumenshine\, Loan Originator for Prime Lending:<br />\nHomebuying and HOPS FOR HEROES</p>\n\n<p>Food &amp\; Drink Provided</p>\n\n<p>Attendees will receive a FREE home warranty after closing&nbsp\;</p>\n\n<ul>\n	<li>Navigating the Market</li>\n	<li>New vs Resale Home</li>\n	<li>What if I need to Sell</li>\n	<li>First Time Homebuyers</li>\n	<li>Home Insurance</li>\n	<li>Lending Options</li>\n</ul>\nHosted by:<br />\nKyle Michel- RE/MAX Momentum<br />\nJody Blumenshine\, Loan Originator\, NMLS: 728824<br />\n5613 DTC Parkway\, Ste 750 | Greenwood Village\, CO 80111<br />\nMelissa Rippy- Exclusive Agent Allstate<br />\n&nbsp\;
LOCATION:Left Hand Brewery 1265 Boston Ave | Longmont\, CO 80501
UID:e.3666.852205
SEQUENCE:3
DTSTAMP:20260422T053138Z
URL:https://members.eriechamber.org/events/details/homebuying-and-hops-for-heroes-852205
END:VEVENT

END:VCALENDAR
