BEGIN:VCALENDAR
VERSION:2.0
PRODID:-//ChamberMaster//Event Calendar 2.0//EN
METHOD:PUBLISH
X-PUBLISHED-TTL:P3D
REFRESH-INTERVAL:P3D
CALSCALE:GREGORIAN
BEGIN:VEVENT
DTSTART:20270730T230000Z
DTEND:20270731T055500Z
X-MICROSOFT-CDO-ALLDAYEVENT:FALSE
SUMMARY:Karaoke Night!
DESCRIPTION:Come Join others at The Dugout in Erie for Karaoke and Prime Rib Night every Friday from 5-close!
X-ALT-DESC;FMTTYPE=text/html:Come Join others at The Dugout in Erie for Karaoke and Prime Rib Night every Friday from 5-close!
LOCATION:149 S Briggs St\, Erie\, CO 80516
UID:e.3666.853762
SEQUENCE:3
DTSTAMP:20260421T153133Z
URL:https://members.eriechamber.org/events/details/karaoke-night-07-30-2027-853762
END:VEVENT

END:VCALENDAR
