BEGIN:VCALENDAR
VERSION:2.0
PRODID:-//ChamberMaster//Event Calendar 2.0//EN
METHOD:PUBLISH
X-PUBLISHED-TTL:P3D
REFRESH-INTERVAL:P3D
CALSCALE:GREGORIAN
BEGIN:VEVENT
DTSTART:20270813T230000Z
DTEND:20270814T055500Z
X-MICROSOFT-CDO-ALLDAYEVENT:FALSE
SUMMARY:Karaoke Night!
DESCRIPTION:Come Join others at The Dugout in Erie for Karaoke and Prime Rib Night every Friday from 5-close!
X-ALT-DESC;FMTTYPE=text/html:Come Join others at The Dugout in Erie for Karaoke and Prime Rib Night every Friday from 5-close!
LOCATION:149 S Briggs St\, Erie\, CO 80516
UID:e.3666.853764
SEQUENCE:3
DTSTAMP:20260421T163855Z
URL:https://members.eriechamber.org/events/details/karaoke-night-08-13-2027-853764
END:VEVENT

END:VCALENDAR
