BEGIN:VCALENDAR
VERSION:2.0
PRODID:-//ChamberMaster//Event Calendar 2.0//EN
METHOD:PUBLISH
X-PUBLISHED-TTL:P3D
REFRESH-INTERVAL:P3D
CALSCALE:GREGORIAN
BEGIN:VEVENT
DTSTART:20231117T230000Z
DTEND:20231118T030000Z
X-MICROSOFT-CDO-ALLDAYEVENT:FALSE
SUMMARY:Meet the Artist event at Birdsong Collective Art Gallery
DESCRIPTION:Meet the Artists at the Birdsong Collective Art Gallery Date: November 17th Time: 4:00 PM to 8:00 PM Location: 7878 W 80th Place\, Arvada\n\nThis event is a fantastic opportunity to meet the artists\, including myself\, and discover the stories behind the art. Light snacks will be provided\, creating a welcoming atmosphere for all attendees. We look forward to seeing you there and experiencing the world of art together!
X-ALT-DESC;FMTTYPE=text/html:<p>Meet the Artists at the Birdsong Collective Art Gallery <span style="color:var(--tw-prose-bold)">Date</span>: November 17th <span style="color:var(--tw-prose-bold)">Time</span>: 4:00 PM to 8:00 PM <span style="color:var(--tw-prose-bold)">Location</span>: 7878 W 80th Place\, Arvada</p>\n\n<p>This event is a fantastic opportunity to meet the artists\, including myself\, and discover the stories behind the art. Light snacks will be provided\, creating a welcoming atmosphere for all attendees. We look forward to seeing you there and experiencing the world of art together!</p>\n
LOCATION:7878 W 80th Place Arvada Colorado 80005
UID:e.3666.852097
SEQUENCE:3
DTSTAMP:20260422T135930Z
URL:https://members.eriechamber.org/events/details/meet-the-artist-event-at-birdsong-collective-art-gallery-852097
END:VEVENT

END:VCALENDAR
