BEGIN:VCALENDAR
VERSION:2.0
PRODID:-//ChamberMaster//Event Calendar 2.0//EN
METHOD:PUBLISH
X-PUBLISHED-TTL:P3D
REFRESH-INTERVAL:P3D
CALSCALE:GREGORIAN
BEGIN:VEVENT
DTSTART:20240710T210000Z
DTEND:20240710T230000Z
X-MICROSOFT-CDO-ALLDAYEVENT:FALSE
SUMMARY:Network on the Green
DESCRIPTION:DON'T MISS OUT! JOIN US FOR AN OPPORTUNITY FOR AREA CHAMBERS TO "NETWORK ON THE GREEN"\n\n\n\nWEDNESDAY JULY 10\, 2024.\n\n\n\nAs a part of tournament week for The Ascendant presented by Blue at TPC Colorado\, we want to invite you to join us in a networking event on the 15th green. The event grants access to the course all day to watch our Official Pro-\n\nAm\, as well as a ticket to the networking event from 3-5 pm. This opportunity will include food and beverage\, a commemorative gift\, a ticket to the tournament\, and the opportunity to meet a Korn Ferry Tour Professional.\n\n\n\nEvent Details\n\nEach $40 Package includes:\n\n*  Admission to the tournament grounds all day on Wednesday.\n\n*  Provides Access to Chamber Happy Hour with beer\, wine\, and food.\n\n*  Ticket includes an extra ticket to attend the tournament on another day\n\nof your choice.\n\n*  Commemorative Gift.\n\n*  Meet a Korn Ferry Tour Professional.\n\n\n\nFor more information\n\n\n\nTo Register\n\n\n\nRegistration ends Wednesday\, June 26\, so sign up today!
X-ALT-DESC;FMTTYPE=text/html:<strong>DON&rsquo\;T MISS OUT! JOIN US FOR AN OPPORTUNITY FOR AREA CHAMBERS TO &ldquo\;NETWORK ON THE GREEN&rdquo\;</strong><br />\n<br />\nWEDNESDAY JULY 10\, 2024.<br />\n<br />\nAs a part of tournament week for The Ascendant presented by Blue at TPC Colorado\, we want to invite you to join us in a networking event on the 15th green. The event grants access to the course all day to watch our Official Pro-<br />\nAm\, as well as a ticket to the networking event from 3-5 pm. This opportunity will include food and beverage\, a commemorative gift\, a ticket to the tournament\, and the opportunity to meet a Korn Ferry Tour Professional.<br />\n<br />\n<strong>Event Details</strong><br />\nEach $40 Package includes:<br />\n*&nbsp\; Admission to the tournament grounds all day on Wednesday.<br />\n*&nbsp\; Provides Access to Chamber Happy Hour with beer\, wine\, and food.<br />\n*&nbsp\; Ticket includes an extra ticket to attend the tournament on another day<br />\nof your choice.<br />\n*&nbsp\; Commemorative Gift.<br />\n*&nbsp\; Meet a Korn Ferry Tour Professional.<br />\n<br />\n<a href="https://theascendant.com/" target="_blank">For more information</a><br />\n<br />\n<a href="https://www.cuetoems.com/cc_2024/Tickets.aspx?l=NET" target="_blank">To Register</a><br />\n<br />\nRegistration ends Wednesday\, June 26\, so sign up today!
LOCATION:TPC Colorado 2375 Tpc Pkwy\, Berthoud\, CO 80513
UID:e.3666.852247
SEQUENCE:3
DTSTAMP:20260422T003735Z
URL:https://members.eriechamber.org/events/details/network-on-the-green-852247
END:VEVENT

END:VCALENDAR
