BEGIN:VCALENDAR
VERSION:2.0
PRODID:-//ChamberMaster//Event Calendar 2.0//EN
METHOD:PUBLISH
X-PUBLISHED-TTL:P3D
REFRESH-INTERVAL:P3D
CALSCALE:GREGORIAN
BEGIN:VEVENT
DTSTART;VALUE=DATE:20241016
DTEND;VALUE=DATE:20241017
TRANSP:TRANSPARENT
X-MICROSOFT-CDO-ALLDAYEVENT:TRUE
SUMMARY:Petal It Forward
DESCRIPTION:Thousands of Petals Set to Brighten Erie on October 16th\n\nResearch Shows Emotional Benefits of Flowers\,\n\nLafayette Florist Encourages Busy Commuters to 'Petal It Forward'\n\nErie\, Colorado October 1\, 2024   Lafayette Florist will be hitting the streets of Erie on Wednesday\, October 16th handing out hundreds of flowers to busy commuters to help brighten up their week\, as part of the 'Petal it Forward' program\, in partnership with the Society of American Florists (SAF)\, of which Lafayette Florist is a member. Lafayette Florist is joining dozens of florists across the country in Petal It Forward. This random-acts-of-kindness effort is in response to the release of data by SAF showing the positive emotional benefits of flowers.\n\nUniversity research reveals that flowers have an immediate impact on happiness and a long-term positive effect on moods. Now\, a survey has found that\, when it comes to flowers\, it's just as good to give as it is to receive. With this data in mind\, the Petal It Forward team is not only spreading happiness to lucky East Boulder County residents who receive the flowers\, but arming these recipients with the tools they need to Petal it Forward and spread happiness to others: An extra flower bouquet to share with a loved one\, coworker or even a stranger.\n\n"We see the positive impact day in and day out when we make our flower deliveries\," said Lori Wheat of Lafayette Florist "People love to get flowers 'just because' so we wanted to create random smiles today and give people a chance to do the same for someone else."\n\nA survey by SAF illustrates the impact of flowers. The results reveal the many benefits of flowers\, including their positive effects on one's emotions and happiness\, and back up previous research studies on flowers conducted by Rutgers\, Harvard and Texas A&M. (See www.aboutflowers.com/research more information on the university studies.)\n\nThe following are highlights from SAF's survey results:\n\n	When it comes to happiness\, it's just as good to give flowers as it is to receive: 88 percent of Americans report that giving flowers makes them feel happy\, while 80 percent reported that receiving flowers makes them feel happy.\n	Just being around flowers improves your mood: 76 percent of Americans agree that having flowers in their home or office improves their mood.\n	The best reason to receive flowers is "just because": Women (92 percent) are more likely to agree with this\, but the majority of men (three in four) also share this sentiment.\n	Florists to the rescue! Nearly four in 10 Americans indicate florists have helped them in a past or current relationship\; most frequently to say\, "I love you\," or schedule a surprise delivery.\n\n"The impact of giving or receiving flowers is powerful and memorable\," said Wheat  "It can turn an ordinary day into an extraordinary one."\n\nWheat will give away bouquets to people on the street. After receiving their flowers\, recipients are asked to spread the happiness by gifting their extra flower bouquet\, and sharing their happiness on social media using #petalitforward.\n\nFor more information on the benefits of flowers\, visit www.aboutflowers.com and www.aboutflowersblog.com.\n\n###\n\nAbout Lafayette Florist:  After 75 years in Lafayette\, It is both exciting and bittersweet to announce that Lafayette Florist has relocated. Lafayette Florist has been in the same location with the same family since 1949\, making this decision for the business is difficult yet an opportunity to look forward to the future and to continue to evolve.\n\nCome see us at our new location at 3335 Arapahoe Rd #30 Erie\, CO 80516.\n\nWe will be florist-focused with the same inviting atmosphere: a fresh flower walk-in cooler\, open design area\, flower delivery service\, and gift shop. If you're a Lafayette Florist plant fanatic\, we will still carry popular and easy-care bloomers\, green plants\, and succulents. We will be discontinuing our outdoor bedding plant area and primarily focusing on having a selection of the healthiest house plants available. \n\nThe family is still here.  Come visit with Lori\, Sandi and 4th generation Tanner.  \n\n \n\nAbout the Society of American Florists\n\nThe Society of American Florists (SAF) is the national trade association to the floral industry\, representing growers\, wholesalers\, retailers\, suppliers\, importers\, educators\, designers and allied organizations.  Lori Wheat\, owner of Lafayette Florist is the incoming President of SAF.
X-ALT-DESC;FMTTYPE=text/html:<strong><span style="font-family:times new roman\,serif"><span style="font-size:18.0pt">Thousands of Petals Set to Brighten Erie on October 16th</span></span></strong><br />\n<strong><em><span style="font-family:times new roman\,serif"><span style="font-size:13.5pt">Research Shows Emotional Benefits of Flowers\,<br />\n<span style="color:red">Lafayette Florist</span> Encourages Busy Commuters to &lsquo\;Petal It Forward&rsquo\;</span></span></em></strong><br />\n<strong><span style="color:red"><span style="font-family:times new roman\,serif">Erie\, Colorado October 1\, 2024</span></span></strong><span style="color:red"><span style="font-family:times new roman\,serif"> &mdash\; <strong>Lafayette Florist </strong></span></span><span style="font-family:times new roman\,serif">will be hitting the streets of <strong><span style="color:red">Erie </span></strong>on <strong><span style="color:red">Wednesday\, October 16<sup>th</sup></span></strong> handing out <strong><span style="color:red">hundreds </span></strong>of flowers to busy commuters to help brighten up their week\, as part of the &lsquo\;Petal it Forward&rsquo\; program\, in partnership with the Society of American Florists (SAF)\, of which <strong><span style="color:red">Lafayette Florist</span> </strong>is a member.&nbsp\;<strong><span style="color:red">Lafayette Florist</span></strong>&nbsp\;is joining dozens of florists across the country in Petal It Forward. This random-acts-of-kindness effort&nbsp\;is in response to the release of data by SAF showing the positive emotional benefits of flowers.</span><br />\n<span style="font-family:times new roman\,serif">University research reveals that flowers have an immediate impact on happiness and a long-term positive effect on moods. Now\, a survey has found that\, when it comes to flowers\, it&rsquo\;s just as good to give as it is to receive. With this data in mind\, the Petal It Forward team is not only spreading happiness to lucky<span style="color:red"> <strong>East Boulder County </strong></span>residents who receive the flowers\, but arming these recipients with the tools they need to Petal it Forward and spread happiness to others: An extra flower bouquet to share with a loved one\, coworker or even a stranger.</span><br />\n<span style="font-family:times new roman\,serif">&ldquo\;We see the positive impact day in and day out when we make our flower deliveries\,&rdquo\; said <strong><span style="color:red">Lori Wheat </span></strong>of <strong><span style="color:red">Lafayette Florist</span></strong> &ldquo\;People love to get flowers &lsquo\;just because&rsquo\; so we wanted to create random smiles today and give people a chance to do the same for someone else.&rdquo\;</span><br />\n<span style="font-family:times new roman\,serif">A survey by SAF illustrates the impact of flowers. The results reveal the many benefits of flowers\, including their positive effects on one&rsquo\;s emotions and happiness\, and back up previous research studies on flowers conducted by Rutgers\, Harvard and Texas A&amp\;M. (See </span><a href="https://aboutflowers.com/quick-links/health-benefits-research/" target="_blank"><span style="color:blue"><span style="font-family:times new roman\,serif">www.aboutflowers.com/research</span></span></a><span style="font-family:times new roman\,serif"> more information on the university studies.)</span><br />\n<span style="font-family:times new roman\,serif">The following are highlights from SAF&rsquo\;s survey results:</span>\n<ul>\n	<li><strong><span style="font-family:times new roman\,serif">When it comes to happiness\, it&rsquo\;s just as good to give flowers as it is to receive:</span></strong><span style="font-family:times new roman\,serif"> 88 percent of Americans report that <u>giving</u> flowers makes them feel happy\, while 80 percent reported that <u>receiving </u>flowers makes them feel happy.</span></li>\n	<li><strong><span style="font-family:times new roman\,serif">Just being around flowers improves your mood: </span></strong><span style="font-family:times new roman\,serif">76 percent of Americans agree that having flowers in their home or office improves their mood.</span></li>\n	<li><strong><span style="font-family:times new roman\,serif">The best reason to receive flowers is &ldquo\;just because&rdquo\;: </span></strong><span style="font-family:times new roman\,serif">Women (92 percent) are more likely to agree with this\, but the majority of men (three in four) also share this sentiment.</span></li>\n	<li><strong><span style="font-family:times new roman\,serif">Florists to the rescue!</span></strong><span style="font-family:times new roman\,serif"> Nearly four in 10 Americans indicate florists have helped them in a past or current relationship\; most frequently to say\, &ldquo\;I love you\,&rdquo\; or schedule a surprise delivery.</span></li>\n</ul>\n<span style="font-family:times new roman\,serif">&ldquo\;The impact of giving or receiving flowers is powerful and memorable\,&rdquo\; said <strong><span style="color:black">Wheat&nbsp\; </span></strong></span>&ldquo\;It can turn an ordinary day into an extraordinary one.&rdquo\;<br />\n<span style="font-family:times new roman\,serif">Wheat will give away bouquets to people on the street. After receiving their flowers\, recipients are asked to spread the happiness by gifting their extra flower bouquet\, and sharing their happiness on social media using #petalitforward.</span><br />\n<span style="font-family:times new roman\,serif">For more information on the benefits of flowers\, visit </span><a href="http://www.aboutflowers.com/" target="_blank"><span style="color:blue"><span style="font-family:times new roman\,serif">www.aboutflowers.com</span></span></a><span style="font-family:times new roman\,serif"> and </span><a href="http://www.aboutflowersblog.com/" target="_blank"><span style="color:blue"><span style="font-family:times new roman\,serif">www.aboutflowersblog.com</span></span></a><span style="font-family:times new roman\,serif">.</span><br />\n<span style="font-family:times new roman\,serif">###</span><br />\n<span style="color:black"><span style="font-family:poppins">About Lafayette Florist:&nbsp\; After 75 years in Lafayette\, It is both exciting and bittersweet to announce that Lafayette Florist has relocated. Lafayette Florist has been in the same location with the same family since 1949\, making this decision for the business is difficult yet an opportunity to look forward to the future and to continue to evolve.</span></span><br />\n<span style="color:black"><span style="font-family:poppins">Come see us at our new location at 3335 Arapahoe Rd #30 Erie\, CO 80516.</span></span><br />\n<span style="color:black"><span style="font-family:poppins">We will be florist-focused with the same inviting atmosphere: a fresh flower walk-in cooler\, open design area\, flower delivery service\, and gift shop. If you&#39\;re a Lafayette Florist plant fanatic\, we will still carry popular and easy-care bloomers\, green plants\, and succulents. We will be discontinuing our outdoor bedding plant area and primarily focusing on having a selection of the healthiest house plants available.&nbsp\;</span></span><br />\n<span style="color:black"><span style="font-family:poppins">The family is still here.&nbsp\; Come visit with Lori\, Sandi and 4<sup>th</sup> generation Tanner.&nbsp\; </span></span><br />\n&nbsp\;<br />\n<strong>About the Society of American Florists</strong><br />\nThe Society of American Florists (SAF) is the national trade association to the floral industry\, representing growers\, wholesalers\, retailers\, suppliers\, importers\, educators\, designers and allied organizations.&nbsp\; Lori Wheat\, owner of Lafayette Florist is the incoming President of SAF.&nbsp\;
LOCATION:Erie\, CO
UID:e.3666.852438
SEQUENCE:3
DTSTAMP:20260421T211131Z
URL:https://members.eriechamber.org/events/details/petal-it-forward-852438
END:VEVENT

END:VCALENDAR
