BEGIN:VCALENDAR
VERSION:2.0
PRODID:-//ChamberMaster//Event Calendar 2.0//EN
METHOD:PUBLISH
X-PUBLISHED-TTL:P3D
REFRESH-INTERVAL:P3D
CALSCALE:GREGORIAN
BEGIN:VEVENT
DTSTART:20231023T223000Z
DTEND:20231023T233000Z
X-MICROSOFT-CDO-ALLDAYEVENT:FALSE
SUMMARY:Ribbon Cutting at Aura Colliers Hill
DESCRIPTION:THIS RIBBON CUTTING HAS BEEN RESCHEDULED TO: OCTOBER 23RD\n\n\n\nRibbon Cutting at Aura Colliers Hill - the new apartment buildings across from Erie HIgh School.\n\nLet's celebrate this new location\, meet the staff\, tour one of their units\, enjoy appetizers and drinks.
X-ALT-DESC;FMTTYPE=text/html:THIS RIBBON CUTTING HAS BEEN RESCHEDULED TO: OCTOBER 23RD<br />\n<br />\nRibbon Cutting at Aura Colliers Hill - the new apartment buildings across from Erie HIgh School.<br />\nLet&#39\;s celebrate this new location\, meet the staff\, tour one of their units\, enjoy appetizers and drinks.
LOCATION:Aura Colliers Hill 1300 Colliers Parkway Erie
UID:e.3666.852000
SEQUENCE:3
DTSTAMP:20260422T182748Z
URL:https://members.eriechamber.org/events/details/ribbon-cutting-at-aura-colliers-hill-852000
END:VEVENT

END:VCALENDAR
