BEGIN:VCALENDAR
VERSION:2.0
PRODID:-//ChamberMaster//Event Calendar 2.0//EN
METHOD:PUBLISH
X-PUBLISHED-TTL:P3D
REFRESH-INTERVAL:P3D
CALSCALE:GREGORIAN
BEGIN:VEVENT
DTSTART:20240709T223000Z
DTEND:20240709T233000Z
X-MICROSOFT-CDO-ALLDAYEVENT:FALSE
SUMMARY:Ribbon Cutting at Beltran's Grill
DESCRIPTION:Join us for a Ribbon Cutting at Beltran's Grill!\n\nSee their restaurant\, meet the staff\, network with other Chamber members and enjoy some appetizers and drinks.\n\n\n\nSee Beltran's Food Truck at several of our Chamber events this summer!
X-ALT-DESC;FMTTYPE=text/html:Join us for a Ribbon Cutting at Beltran&#39\;s Grill!<br />\nSee their restaurant\, meet the staff\, network with other Chamber members and enjoy some appetizers and drinks.<br />\n<br />\nSee Beltran&#39\;s Food Truck at several of our Chamber events this summer!
LOCATION:Beltran's Grill 16818 Sheridan Parkway Broomfield Beltran's is located just east of King Soopers on Hwy 7 and adjacent to Chase Bank and Mod Pizza.
UID:e.3666.852243
SEQUENCE:3
DTSTAMP:20260422T004111Z
URL:https://members.eriechamber.org/events/details/ribbon-cutting-at-beltran-s-grill-852243
END:VEVENT

END:VCALENDAR
