BEGIN:VCALENDAR
VERSION:2.0
PRODID:-//ChamberMaster//Event Calendar 2.0//EN
METHOD:PUBLISH
X-PUBLISHED-TTL:P3D
REFRESH-INTERVAL:P3D
CALSCALE:GREGORIAN
BEGIN:VEVENT
DTSTART:20240530T223000Z
DTEND:20240530T233000Z
X-MICROSOFT-CDO-ALLDAYEVENT:FALSE
SUMMARY:Ribbon Cutting at Erie Coffee Roasters
DESCRIPTION:Come and join us for a ribbon cutting at Erie Coffee Roasters\, meet the owners and check out their newest addition\, ECR Cafe!  At ECR Cafe\, they believe that great coffee deserves great companions\, which is why they are proud to complement their  brews with a delightful array of locally baked goods. From flaky croissants to decadent pastries\, each item is crafted with care by talented artisans right here in our community. ECR invite us to embark on a culinary journey with them\, where every sip and bite reflects their commitment to quality and passion for hospitality. Join us at ECR Cafe\, where coffee meets community in the heart of Frederick CO.
X-ALT-DESC;FMTTYPE=text/html:<span style="color: rgb(84\, 84\, 84)\; font-family: Helvetica\, sans-serif\; font-size: 16px\; background-color: rgb(255\, 255\, 255)\;">Come and join us for a ribbon cutting at Erie Coffee Roasters\, meet the owners and check out their newest addition\, ECR Cafe!&nbsp\; At ECR Cafe\, they believe that great coffee deserves great companions\, which is why they are proud to complement their&nbsp\; brews with a delightful array of locally baked goods. From flaky croissants to decadent pastries\, each item is crafted with care by talented artisans right here in our community. ECR invite us to embark on a culinary journey with them\, where every sip and bite reflects their commitment to quality and passion for hospitality. Join us at ECR Cafe\, where coffee meets community in the heart of Frederick CO.</span><br />\n&nbsp\;
LOCATION:Erie Coffee Roasters 4030 Bruin Boulevard\, Suite A Frederick CO 80504 Owner\, Sean McNeal
UID:e.3666.852236
SEQUENCE:3
DTSTAMP:20260422T071624Z
URL:https://members.eriechamber.org/events/details/ribbon-cutting-at-erie-coffee-roasters-852236
END:VEVENT

END:VCALENDAR
