BEGIN:VCALENDAR
VERSION:2.0
PRODID:-//ChamberMaster//Event Calendar 2.0//EN
METHOD:PUBLISH
X-PUBLISHED-TTL:P3D
REFRESH-INTERVAL:P3D
CALSCALE:GREGORIAN
BEGIN:VEVENT
DTSTART:20240215T233000Z
DTEND:20240216T003000Z
X-MICROSOFT-CDO-ALLDAYEVENT:FALSE
SUMMARY:Ribbon Cutting at Ideal Dental Erie
DESCRIPTION:RIBBON CUTTING!\n\nCome and celebrate our newest Chamber member with a Ribbon Cutting at their new location!\n\nTake a tour of their new facility\, meet their staff\, learn about their business\, have some snacks and drinks and network with other Chamber members.
X-ALT-DESC;FMTTYPE=text/html:RIBBON CUTTING!<br />\nCome and celebrate our newest Chamber member with a Ribbon Cutting at their new location!<br />\nTake a tour of their new facility\, meet their staff\, learn about their business\, have some snacks and drinks and network with other Chamber members.
LOCATION:Ideal Dental Erie 680 Mitchell Way\, Suite 170 Erie\, CO 80516
UID:e.3666.852188
SEQUENCE:3
DTSTAMP:20260422T092400Z
URL:https://members.eriechamber.org/events/details/ribbon-cutting-at-ideal-dental-erie-852188
END:VEVENT

END:VCALENDAR
