BEGIN:VCALENDAR
VERSION:2.0
PRODID:-//ChamberMaster//Event Calendar 2.0//EN
METHOD:PUBLISH
X-PUBLISHED-TTL:P3D
REFRESH-INTERVAL:P3D
CALSCALE:GREGORIAN
BEGIN:VEVENT
DTSTART:20231019T230000Z
DTEND:20231019T233000Z
X-MICROSOFT-CDO-ALLDAYEVENT:FALSE
SUMMARY:Ribbon Cutting at Salon Halcyon/Best Version Media
DESCRIPTION:Come help us celebrate a joint Ribbon Cutting for Erie Friends and Neighbors and Salon Halcyon (under new ownership).  \n\n\n\nBest Version Media\n\nKim Burger has been with Best Version Media for nearly 6 years. She has been in this area and community for over 15 and loves being a representative of BVM. BVM builds close-knit communities by producing magazines about the people\, for the people\, and by the people\, delivered monthly to the most influential and affluent homeowners\, giving our local businesses access through this unique advertising campaign experience. Our integrated print and digital bundles utilize Facebook\, Instagram\, and Google Digital Display Ads along with an online system with a 30-mile reach for local sports\, both Pee-Wee to Pros. Kim runs 2 markets and 2 magazines here in Colorado and is the publisher of our very own Erie Friends & Neighbors.\n\n\n\nSalon Halcyon:\n\nJulie Myers has been a hairdresser for 35 years and specializes in color\, having been an instructor for a color line. She recently purchased Salon Halcyon with the intention of making it what the people want\, a friendly\, feel good space offering the best hair services and hair care products in Erie. She is passionate about her craft\, the people\, and the community. Let Salon Halcyon welcome you.
X-ALT-DESC;FMTTYPE=text/html:Come help us celebrate a joint Ribbon Cutting for Erie Friends and Neighbors and Salon Halcyon (under new ownership).&nbsp\;&nbsp\;<br />\n<br />\n<span style="font-family:segoe ui\,sans-serif\;"><span style="font-size:10.5pt\;">Best Version Media<br />\nKim Burger has been with Best Version Media for nearly 6 years. She has been in this area and community for over 15 and loves being a representative of BVM. BVM builds close-knit communities by producing magazines about the people\, for the people\, and by the people\, delivered monthly to the most influential and affluent homeowners\, giving our local businesses access through this unique advertising campaign experience. Our integrated print and digital bundles utilize Facebook\, Instagram\, and Google Digital Display Ads along with an online system with a 30-mile reach for local sports\, both Pee-Wee to Pros. Kim runs 2 markets and 2 magazines here in Colorado and is the publisher of our very own Erie Friends &amp\; Neighbors.</span></span><br />\n<br />\nSalon Halcyon:<br />\n<span style="font-family:segoe ui\,sans-serif\;"><span style="font-size:10.5pt\;">Julie Myers has been a hairdresser for 35 years and specializes in color\, having been an instructor for a color line. She recently purchased Salon Halcyon with the intention of making it what the people want\, a friendly\, feel good space offering the best hair services and hair care products in Erie. She is passionate about her craft\, the people\, and the community. Let Salon Halcyon welcome you.</span></span><br />\n<br />\n<br />\n&nbsp\;
LOCATION:Salon Halcyon 3140 Village Vista Dr. Suite 103\, Erie
UID:e.3666.852001
SEQUENCE:3
DTSTAMP:20260422T153529Z
URL:https://members.eriechamber.org/events/details/ribbon-cutting-at-salon-halcyon-best-version-media-852001
END:VEVENT

END:VCALENDAR
