BEGIN:VCALENDAR
VERSION:2.0
PRODID:-//ChamberMaster//Event Calendar 2.0//EN
METHOD:PUBLISH
X-PUBLISHED-TTL:P3D
REFRESH-INTERVAL:P3D
CALSCALE:GREGORIAN
BEGIN:VEVENT
DTSTART:20240408T223000Z
DTEND:20240408T233000Z
X-MICROSOFT-CDO-ALLDAYEVENT:FALSE
SUMMARY:Ribbon Cutting at Sapporo Sushi Grill
DESCRIPTION:Ribbon Cutting at Sapporo Sushi Grill!\n\nCome join us to welcome our newest Erie business and Chamber member at a ribbon cutting at their new location.\n\nMeet the staff\, have some appetizers and drinks and network with other Chamber members!
X-ALT-DESC;FMTTYPE=text/html:Ribbon Cutting at Sapporo Sushi Grill!<br />\nCome join us to welcome our newest Erie business and Chamber member at a ribbon cutting at their new location.<br />\nMeet the staff\, have some appetizers and drinks and network with other Chamber members!
LOCATION:Sapporo Sushi Grill 2930 Arapahoe Road Erie\, CO
UID:e.3666.852199
SEQUENCE:3
DTSTAMP:20260422T053225Z
URL:https://members.eriechamber.org/events/details/ribbon-cutting-at-sapporo-sushi-grill-852199
END:VEVENT

END:VCALENDAR
