BEGIN:VCALENDAR
VERSION:2.0
PRODID:-//ChamberMaster//Event Calendar 2.0//EN
METHOD:PUBLISH
X-PUBLISHED-TTL:P3D
REFRESH-INTERVAL:P3D
CALSCALE:GREGORIAN
BEGIN:VEVENT
DTSTART:20240603T223000Z
DTEND:20240603T233000Z
X-MICROSOFT-CDO-ALLDAYEVENT:FALSE
SUMMARY:Ribbon Cutting at Young Explorers
DESCRIPTION:Come and celebrate our newest Historic Downtown Erie business!\n\nThis is a ribbon cutting for Young Explorers.\n\nAlso a great opportunity to meet and welcome owner\, Fatma Wahedi to the business community.\n\nSpend some time looking around her amazing facility\, enjoy some drinks and appetizers and network with other community businesses and Chamber members.
X-ALT-DESC;FMTTYPE=text/html:Come and celebrate our newest Historic Downtown Erie business!<br />\nThis is a ribbon cutting for Young Explorers.<br />\nAlso a great opportunity to meet and welcome owner\, Fatma Wahedi to the business community.<br />\nSpend some time looking around her amazing facility\, enjoy some drinks and appetizers and network with other community businesses and Chamber members.<br />\n<br />\n&nbsp\;
LOCATION:Young Explorers 545 Briggs Street Erie
UID:e.3666.852234
SEQUENCE:3
DTSTAMP:20260422T022425Z
URL:https://members.eriechamber.org/events/details/ribbon-cutting-at-young-explorers-852234
END:VEVENT

END:VCALENDAR
