BEGIN:VCALENDAR
VERSION:2.0
PRODID:-//ChamberMaster//Event Calendar 2.0//EN
METHOD:PUBLISH
X-PUBLISHED-TTL:P3D
REFRESH-INTERVAL:P3D
CALSCALE:GREGORIAN
BEGIN:VEVENT
DTSTART:20240228T233000Z
DTEND:20240229T003000Z
X-MICROSOFT-CDO-ALLDAYEVENT:FALSE
SUMMARY:Ribbon Cutting at Ziggi's Coffee
DESCRIPTION:Ribbon Cutting at Ziggi's Coffee!\n\n\n\nJoin us in welcoming our newest Erie business and Chamber member with a ribbon cutting at their new location in Erie.\n\n\n\nHave some coffee\, see their facility\, meet the staff and enjoy some great time networking with other Chamber members.
X-ALT-DESC;FMTTYPE=text/html:<span style="color:#FF0000\;"><span style="font-size:16px\;"><strong>Ribbon Cutting at Ziggi&#39\;s Coffee!</strong></span></span><br />\n<br />\nJoin us in welcoming our newest Erie business and Chamber member with a ribbon cutting at their new location in Erie.<br />\n<br />\nHave some coffee\, see their facility\, meet the staff and enjoy some great time networking with other Chamber members.
LOCATION:Ziggi's Coffee 331 Milan Place Erie\, CO 80516
UID:e.3666.852189
SEQUENCE:3
DTSTAMP:20260422T085624Z
URL:https://members.eriechamber.org/events/details/ribbon-cutting-at-ziggi-s-coffee-852189
END:VEVENT

END:VCALENDAR
