BEGIN:VCALENDAR
VERSION:2.0
PRODID:-//ChamberMaster//Event Calendar 2.0//EN
METHOD:PUBLISH
X-PUBLISHED-TTL:P3D
REFRESH-INTERVAL:P3D
CALSCALE:GREGORIAN
BEGIN:VEVENT
DTSTART:20240507T223000Z
DTEND:20240507T233000Z
X-MICROSOFT-CDO-ALLDAYEVENT:FALSE
SUMMARY:Ribbon Cutting - Comparion Insurance Agency & Kate Jackson Porchlight Group
DESCRIPTION:Join Kate Jackson of Porchlight Real Estate Group and Bryan Wagstaff of Comparion Insurance Agency as they celebrate the opening of their new in-home businesses in Erie\, Co.\n\n\n\nCome enjoy live music\, snacks and spirits with a ribbon cutting at the Erie Chamber of Commerce!
X-ALT-DESC;FMTTYPE=text/html:<br />\n<span style="font-size: 16px\;"><b>Join Kate Jackson of Porchlight Real Estate Group and Bryan Wagstaff of Comparion Insurance Agency as they celebrate the opening of their new in-home businesses in Erie\, Co.<br />\n<br />\nCome enjoy live music\, snacks and spirits with a ribbon cutting at the Erie Chamber of Commerce!</b></span><br />\n&nbsp\;
LOCATION:Erie Chamber of Commerce 235 Wells Street Erie
UID:e.3666.852219
SEQUENCE:3
DTSTAMP:20260422T053310Z
URL:https://members.eriechamber.org/events/details/ribbon-cutting-comparion-insurance-agency-kate-jackson-porchlight-group-852219
END:VEVENT

END:VCALENDAR
