BEGIN:VCALENDAR
VERSION:2.0
PRODID:-//ChamberMaster//Event Calendar 2.0//EN
METHOD:PUBLISH
X-PUBLISHED-TTL:P3D
REFRESH-INTERVAL:P3D
CALSCALE:GREGORIAN
BEGIN:VEVENT
DTSTART:20240415T223000Z
DTEND:20240415T233000Z
X-MICROSOFT-CDO-ALLDAYEVENT:FALSE
SUMMARY:Ribbon Cutting for Boulder Landscape & Shepherd HVAC
DESCRIPTION:Join us to celebrate two of our newest In Home businesses with a ribbon cutting for:\n\nBoulder Landscape and Design and Shepherd HVAC\n\nMeet the owners and their staff\, network with other Chamber members and have some appetizers and drinks.
X-ALT-DESC;FMTTYPE=text/html:Join us to celebrate two of our newest In Home businesses with a ribbon cutting for:<br />\nBoulder Landscape and Design and Shepherd HVAC<br />\nMeet the owners and their staff\, network with other Chamber members and have some appetizers and drinks.
LOCATION:Erie Chamber of Commerce 235 Wells Street\, Erie
UID:e.3666.852200
SEQUENCE:3
DTSTAMP:20260422T053138Z
URL:https://members.eriechamber.org/events/details/ribbon-cutting-for-boulder-landscape-shepherd-hvac-852200
END:VEVENT

END:VCALENDAR
