BEGIN:VCALENDAR
VERSION:2.0
PRODID:-//ChamberMaster//Event Calendar 2.0//EN
METHOD:PUBLISH
X-PUBLISHED-TTL:P3D
REFRESH-INTERVAL:P3D
CALSCALE:GREGORIAN
BEGIN:VEVENT
DTSTART:20240625T223000Z
DTEND:20240625T233000Z
X-MICROSOFT-CDO-ALLDAYEVENT:FALSE
SUMMARY:Ribbon Cutting for Independent Power
DESCRIPTION:Stop by the Chamber Office to welcome one of our newest members\, Independent Power who have offices in Boulder.\n\nMeet the staff\, learn about their business\, network with other Chamber members and enjoy some appetizers and snacks!
X-ALT-DESC;FMTTYPE=text/html:Stop by the Chamber Office to welcome one of our newest members\, Independent Power who have offices in Boulder.<br />\nMeet the staff\, learn about their business\, network with other Chamber members and enjoy some appetizers and snacks!
LOCATION:Erie Chamber of Commerce 235 Wells Street Erie
UID:e.3666.852242
SEQUENCE:3
DTSTAMP:20260422T022629Z
URL:https://members.eriechamber.org/events/details/ribbon-cutting-for-independent-power-852242
END:VEVENT

END:VCALENDAR
