BEGIN:VCALENDAR
VERSION:2.0
PRODID:-//ChamberMaster//Event Calendar 2.0//EN
METHOD:PUBLISH
X-PUBLISHED-TTL:P3D
REFRESH-INTERVAL:P3D
CALSCALE:GREGORIAN
BEGIN:VEVENT
DTSTART:20240312T223000Z
DTEND:20240312T233000Z
X-MICROSOFT-CDO-ALLDAYEVENT:FALSE
SUMMARY:Ribbon Cutting for Lafayette Florist\, Erie
DESCRIPTION:Ribbon Cutting/Grand Opening!\n\nLafayette Florist has relocated to Erie!  Let's celebrate them with a Ribbon Cutting at their new location in conjunction with the Lafayette Chamber.\n\n\n\nCome and see their new facility\, watch a floral demonstration\, have some appetizers and drinks\, meet their staff and network with other Chamber members.
X-ALT-DESC;FMTTYPE=text/html:Ribbon Cutting/Grand Opening!<br />\nLafayette Florist has relocated to Erie!&nbsp\; Let&#39\;s celebrate them with a Ribbon Cutting at their new location in conjunction with the Lafayette Chamber.<br />\n<br />\nCome and see their new facility\, watch a floral demonstration\, have some appetizers and drinks\, meet their staff and network with other Chamber members.&nbsp\;
LOCATION:Lafayette Florist 3335 Arapahoe Road\, Suite #30 Erie\, CO 80516 They are located on the same side of Arapahoe Road as the Safeway store.
UID:e.3666.852187
SEQUENCE:3
DTSTAMP:20260422T071835Z
URL:https://members.eriechamber.org/events/details/ribbon-cutting-for-lafayette-florist-erie-852187
END:VEVENT

END:VCALENDAR
