BEGIN:VCALENDAR
VERSION:2.0
PRODID:-//ChamberMaster//Event Calendar 2.0//EN
METHOD:PUBLISH
X-PUBLISHED-TTL:P3D
REFRESH-INTERVAL:P3D
CALSCALE:GREGORIAN
BEGIN:VEVENT
DTSTART:20240827T223000Z
DTEND:20240827T233000Z
X-MICROSOFT-CDO-ALLDAYEVENT:FALSE
SUMMARY:Ribbon Cutting for SkyPond Tech
DESCRIPTION:Ribbon Cutting for SkyPond Tech!\n\nCome to the Chamber Office to celebrate with our newest Chamber member\, hear all about the business\,  have some appetizers and drinks and network with other members.
X-ALT-DESC;FMTTYPE=text/html:Ribbon Cutting for SkyPond Tech!<br />\nCome to the Chamber Office to celebrate with our newest Chamber member\, hear all about the business\,&nbsp\; have some appetizers and drinks and network with other members.
LOCATION:Erie Chamber of Commerce 235 Wells Street Erie
UID:e.3666.852251
SEQUENCE:3
DTSTAMP:20260422T004004Z
URL:https://members.eriechamber.org/events/details/ribbon-cutting-for-skypond-tech-852251
END:VEVENT

END:VCALENDAR
