BEGIN:VCALENDAR
VERSION:2.0
PRODID:-//ChamberMaster//Event Calendar 2.0//EN
METHOD:PUBLISH
X-PUBLISHED-TTL:P3D
REFRESH-INTERVAL:P3D
CALSCALE:GREGORIAN
BEGIN:VEVENT
DTSTART:20240326T223000Z
DTEND:20240326T233000Z
X-MICROSOFT-CDO-ALLDAYEVENT:FALSE
SUMMARY:Ribbon Cutting & Grand Opening -Aire Serv of the Front Range
DESCRIPTION:Ribbon Cutting & Grand Opening-Aire Serv of the Front Range\n\n\n\nJoin the Erie Chamber of Commerce\, Carbon Valley Chamber of Commerce\, Brighton Chamber of Commerce\, the Broomfield Area Chamber and Aire Serv of the Front Range as we celebrate Aire Serv's NEW location with a Grand Opening and joint chamber Ribbon Cutting Ceremony! Beverages and snacks will be provided\, tours will be given and a great opportunity to network with members from other Chambers.\n\n\n\n      **** Ribbon Will Be Cut at 4:45PM ****\n\n\n\nAbout Aire Serv of the Front Range:\n\nAfter two years of running Aire Serv of the Front Range from home\, they are moving to an office space in Frederick. Aire Serv is so excited to celebrate this milestone with their community and other businesses in the areas they service.
X-ALT-DESC;FMTTYPE=text/html:<span style="color: rgb(95\, 43\, 43)\; font-family: &quot\;Open Sans&quot\;\, &quot\;Josefin Sans&quot\;\, Helvetica\, Arial\, sans-serif\; font-size: 18px\; background-color: rgb(255\, 255\, 255)\;"><span style="font-size:16px\;"><strong>Ribbon Cutting &amp\; Grand Opening-Aire Serv of the Front Range</strong></span><br />\n<br />\nJoin the Erie Chamber of Commerce\, Carbon Valley Chamber of Commerce\, Brighton Chamber of Commerce\, the Broomfield Area Chamber and Aire Serv of the Front Range as we celebrate Aire Serv&#39\;s NEW location with a Grand Opening and joint chamber Ribbon Cutting Ceremony! Beverages and snacks will be provided\, tours will be given and a great opportunity to network with members from other Chambers.</span><br style="box-sizing: border-box\; color: rgb(95\, 43\, 43)\; font-family: &quot\;Open Sans&quot\;\, &quot\;Josefin Sans&quot\;\, Helvetica\, Arial\, sans-serif\; font-size: 18px\; background-color: rgb(255\, 255\, 255)\;" />\n<br style="box-sizing: border-box\; color: rgb(95\, 43\, 43)\; font-family: &quot\;Open Sans&quot\;\, &quot\;Josefin Sans&quot\;\, Helvetica\, Arial\, sans-serif\; font-size: 18px\; background-color: rgb(255\, 255\, 255)\;" />\n<span style="box-sizing: border-box\; margin: 0px\; padding: 0px\; border: 0px\; outline: 0px\; font-size: 18px\; text-size-adjust: 100%\; vertical-align: baseline\; background: rgb(255\, 255\, 255)\; font-weight: bolder\; color: rgb(95\, 43\, 43)\; font-family: &quot\;Open Sans&quot\;\, &quot\;Josefin Sans&quot\;\, Helvetica\, Arial\, sans-serif\;">&nbsp\; &nbsp\; &nbsp\; **** Ribbon Will Be Cut at 4:45PM ****</span><br style="box-sizing: border-box\; color: rgb(95\, 43\, 43)\; font-family: &quot\;Open Sans&quot\;\, &quot\;Josefin Sans&quot\;\, Helvetica\, Arial\, sans-serif\; font-size: 18px\; background-color: rgb(255\, 255\, 255)\;" />\n<br style="box-sizing: border-box\; color: rgb(95\, 43\, 43)\; font-family: &quot\;Open Sans&quot\;\, &quot\;Josefin Sans&quot\;\, Helvetica\, Arial\, sans-serif\; font-size: 18px\; background-color: rgb(255\, 255\, 255)\;" />\n<u style="box-sizing: border-box\; margin: 0px\; padding: 0px\; border: 0px\; outline: 0px\; font-size: 18px\; text-size-adjust: 100%\; vertical-align: baseline\; background: rgb(255\, 255\, 255)\; color: rgb(95\, 43\, 43)\; font-family: &quot\;Open Sans&quot\;\, &quot\;Josefin Sans&quot\;\, Helvetica\, Arial\, sans-serif\;">About Aire Serv of the Front Range:</u><br style="box-sizing: border-box\; color: rgb(95\, 43\, 43)\; font-family: &quot\;Open Sans&quot\;\, &quot\;Josefin Sans&quot\;\, Helvetica\, Arial\, sans-serif\; font-size: 18px\; background-color: rgb(255\, 255\, 255)\;" />\n<span style="box-sizing: border-box\; margin: 0px\; padding: 0px\; border: 0px\; outline: 0px\; font-size: 12.6px\; text-size-adjust: 100%\; vertical-align: baseline\; background: rgb(245\, 245\, 245)\; color: rgb(95\, 43\, 43)\; font-family: Roboto\, sans-serif\;">After two years of running Aire Serv of the Front Range from home\, they are moving to an office space in Frederick. Aire Serv is so excited to celebrate this milestone with their community and other businesses in the areas they service.</span>
LOCATION:Aire Serv of the Front Range 3630 Hwy 52\, Unit E Frederick\, CO 80516
UID:e.3666.852198
SEQUENCE:3
DTSTAMP:20260422T085733Z
URL:https://members.eriechamber.org/events/details/ribbon-cutting-grand-opening-aire-serv-of-the-front-range-852198
END:VEVENT

END:VCALENDAR
