BEGIN:VCALENDAR
VERSION:2.0
PRODID:-//ChamberMaster//Event Calendar 2.0//EN
METHOD:PUBLISH
X-PUBLISHED-TTL:P3D
REFRESH-INTERVAL:P3D
CALSCALE:GREGORIAN
BEGIN:VEVENT
DTSTART:20240725T173000Z
DTEND:20240725T190000Z
X-MICROSOFT-CDO-ALLDAYEVENT:FALSE
SUMMARY:Social Media 101 Sponsored by Town of Erie EEDC
DESCRIPTION:Business Owners are Invited to Attend Social Media 201\n			The Town of Erie's Economic Development Department is sponsoring an upcoming \n\n			Lunch 'n Learn for business owners. The training will be hosted by the East Colorado SBDC. The Social Media 201 class is a follow-up for the 101 class taught earlier this year. This course will expand on social media platforms with a special focus on how to develop a brand kit\, create a content calendar\, and explore different frameworks you can utilize in your marketing efforts.\n\n			Participants will learn how to navigate these platforms (with a special emphasis on Meta Business Suite)\, create engaging content\, and effectively communicate their message to a wider audience. Whether you are a social media novice or looking to enhance your existing skills\, the Social Media 201 class is designed to equip you with the knowledge and tools needed to make the most of social media for personal and professional purposes.\n\n			   What: Social Media 201\n\n			   When: Thursday\, July 25 from 11:30 a.m.- 1 p.m.\n\n			   Where: Erie Community Library (400 Powers Street)\n\n			   Details: Register now for this free event.\n\n			Please reach out with any questions at economicdevelopment@erieco.gov.
X-ALT-DESC;FMTTYPE=text/html:<table border="0" cellpadding="0" cellspacing="0" style="width:580px\;border-collapse:collapse\;" width="580">\n	<tbody>\n		<tr>\n			<td style="padding:7.5pt 7.5pt 7.5pt 7.5pt\;vertical-align:top\;">\n			<h2 style="margin-bottom:0in\;"><strong><span style="color:#A36727\;"><span style="font-family:raleway\;"><span style="font-size:16.0pt\;">Business Owners are Invited to Attend Social Media 201</span></span></span></strong></h2>\n			<span style="color:#444444\;"><span style="font-family:raleway\;"><span style="font-size:10.5pt\;">The Town of Erie&rsquo\;s Economic Development Department is sponsoring an upcoming&nbsp\;<br />\n			Lunch &lsquo\;n Learn for business owners. The training will be hosted by the East Colorado SBDC. The Social Media 201 class is a follow-up for the 101 class taught earlier this year. This course will expand on social media platforms with a special focus on how to develop a brand kit\, create a content calendar\, and explore different frameworks you can utilize in your marketing efforts.</span></span></span><br />\n			<span style="color:#444444\;"><span style="font-family:raleway\;"><span style="font-size:10.5pt\;">Participants will learn how to navigate these platforms (with a special emphasis on Meta Business Suite)\, create engaging content\, and effectively communicate their message to a wider audience. Whether you are a social media novice or looking to enhance your existing skills\, the Social Media 201 class is designed to equip you with the knowledge and tools needed to make the most of social media for personal and professional purposes.</span></span></span><br />\n			<strong><span style="color:#444444\;"><span style="font-family:raleway\;"><span style="font-size:10.5pt\;">&nbsp\; &nbsp\;What:</span></span></span></strong><span style="color:#444444\;"><span style="font-family:raleway\;"><span style="font-size:10.5pt\;"> Social Media 201<br />\n			<strong><span style="font-family:raleway\;">&nbsp\; &nbsp\;When:&nbsp\;</span></strong></span>Thursday\, July 25 from 11:30 a.m.- 1 p.m.<br />\n			<strong><span style="font-family:raleway\;">&nbsp\; &nbsp\;Where:</span></strong></span> Erie Community Library (400 Powers Street)<br />\n			<strong><span style="font-family:raleway\;">&nbsp\; &nbsp\;Details:&nbsp\;</span></strong></span><a href="https://eastcoloradosbdc.com/social-media-201-erie-2024/" target="_blank"><span style="color:#266C75\;">Register now</span></a> for this free event.<br />\n			<span style="color:#444444\;"><span style="font-family:raleway\;"><span style="font-size:10.5pt\;">Please reach out with any questions at <a href="mailto:economicdevelopment@erieco.gov"><span style="color:#266C75\;">economicdevelopment@erieco.gov</span></a>.</span></span></span><br />\n			&nbsp\;</td>\n		</tr>\n	</tbody>\n</table>\n
LOCATION:Erie Community Library 400 Powers Street Erie
UID:e.3666.852255
SEQUENCE:3
DTSTAMP:20260422T004150Z
URL:https://members.eriechamber.org/events/details/social-media-101-sponsored-by-town-of-erie-eedc-852255
END:VEVENT

END:VCALENDAR
