BEGIN:VCALENDAR
VERSION:2.0
PRODID:-//ChamberMaster//Event Calendar 2.0//EN
METHOD:PUBLISH
X-PUBLISHED-TTL:P3D
REFRESH-INTERVAL:P3D
CALSCALE:GREGORIAN
BEGIN:VEVENT
DTSTART:20250809T140000Z
DTEND:20250809T170000Z
X-MICROSOFT-CDO-ALLDAYEVENT:FALSE
SUMMARY:Sunrise Stampede
DESCRIPTION:The Sunrise Stampede (established in 1985) is a family-oriented 5K and 1 Mile run/walk that raises funds to support Teacher Innovation Grants\, including Special Education and Mental Health grants that empower educators and uplift students. These grants are awarded to teachers who have innovative ideas that empower educators and uplift students.  Help us continue a community tradition.
X-ALT-DESC;FMTTYPE=text/html:<p>The Sunrise Stampede (established in 1985) is a family-oriented 5K and 1 Mile run/walk that raises funds to support Teacher Innovation Grants\, including Special Education and Mental Health grants that empower educators and uplift students. These grants are awarded to teachers who have innovative ideas that empower educators and uplift students.&nbsp\; Help us continue a community tradition.</p>\n
LOCATION:Fall River Elementary/Stephen Day Park
UID:e.3666.853273
SEQUENCE:3
DTSTAMP:20260421T100734Z
URL:https://members.eriechamber.org/events/details/sunrise-stampede-853273
END:VEVENT

END:VCALENDAR
