BEGIN:VCALENDAR
VERSION:2.0
PRODID:-//ChamberMaster//Event Calendar 2.0//EN
METHOD:PUBLISH
X-PUBLISHED-TTL:P3D
REFRESH-INTERVAL:P3D
CALSCALE:GREGORIAN
BEGIN:VEVENT
DTSTART:20240118T143000Z
DTEND:20240118T160000Z
X-MICROSOFT-CDO-ALLDAYEVENT:FALSE
SUMMARY:“The Cost of Failing to do Emergency Planning for Your Business”
DESCRIPTION:"The Cost of Failing to do Emergency Planning for Your Business" \n\nWhat you Don't Know Might Hurt You: \n\nEmergencies Happen to Business Owners of All Ages-How to Be Prepared\n \n\nWe will cover topics such as:\n\n	What we have learned since COVID began about the necessity of proper business succession planning and personal estate planning for business owners\n	What kinds of legal documents every business owner should have\n	What happens if a CEO is suddenly incapacitated due to stroke\, heart attack\, cancer or other unexpected ailments?\n	Who can or needs to step in your shoes legally?\n	What happens if you have no legal planning-discussions of unexpected Court involvement-conservatorships\, receiverships and their affect on the value of your business\n	Incapacity can create a vacancy that is hard to fill and can make your business ripe for exploitation or fraud\n	Your personal estate planning documents and powers of attorney must coordinate with your business planning documents\n	Your successor might not be who you choose-the court might have to choose for you if you don't plan\n	What happens if you have to medically retire early?\n	How to prepare for selling or transferring your business\n	What if your kids don't want your business?\n	Unexpected Legal Fees\n\nBreakfast and Coffee will be provided ($5.00 fee)
X-ALT-DESC;FMTTYPE=text/html:<div style="text-align: center\;">&ldquo\;The Cost of Failing to do Emergency Planning for Your Business&rdquo\;&nbsp\;<br />\nWhat you Don&rsquo\;t Know Might Hurt You:&nbsp\;<br />\nEmergencies Happen to Business Owners of All Ages-How to Be Prepared</div>\n&nbsp\;<br />\nWe will cover topics such as:\n<ul>\n	<li>What we have learned since COVID began about the necessity of proper business succession planning and personal estate planning for business owners</li>\n	<li>What kinds of legal documents every business owner should have</li>\n	<li>What happens if a CEO is suddenly incapacitated due to stroke\, heart attack\, cancer or other unexpected ailments?</li>\n	<li>Who can or needs to step in your shoes legally?</li>\n	<li>What happens if you have no legal planning-discussions of unexpected Court involvement-conservatorships\, receiverships and their affect on the value of your business</li>\n	<li>Incapacity can create a vacancy that is hard to fill and can make your business ripe for exploitation or fraud</li>\n	<li>Your personal estate planning documents and powers of attorney must coordinate with your business planning documents</li>\n	<li>Your successor might not be who you choose-the court might have to choose for you if you don&rsquo\;t plan</li>\n	<li>What happens if you have to medically retire early?</li>\n	<li>How to prepare for selling or transferring your business</li>\n	<li>What if your kids don&rsquo\;t want your business?</li>\n	<li>Unexpected Legal Fees</li>\n</ul>\nBreakfast and Coffee will be provided ($5.00 fee)
LOCATION:Seminar sponsored by Business Connections Calvary Bible Church 615 Evans\, Erie
UID:e.3666.852084
SEQUENCE:3
DTSTAMP:20260422T140007Z
URL:https://members.eriechamber.org/events/details/the-cost-of-failing-to-do-emergency-planning-for-your-business-852084
END:VEVENT

END:VCALENDAR
