BEGIN:VCALENDAR
VERSION:2.0
PRODID:-//ChamberMaster//Event Calendar 2.0//EN
METHOD:PUBLISH
X-PUBLISHED-TTL:P3D
REFRESH-INTERVAL:P3D
CALSCALE:GREGORIAN
BEGIN:VEVENT
DTSTART:20240925T170000Z
DTEND:20240925T200000Z
X-MICROSOFT-CDO-ALLDAYEVENT:FALSE
SUMMARY:US Postal Service- FREE EVENT
DESCRIPTION:You are invited to attend the free in person event sponsored by the US Postal Service to help connect businesses and USPS.  This is presented by the Postal Customer Council.\n\nThere is no entrance free\; there will be free parking and a complimentary lunch will be provided.\n\nHeather Dyer\, USPS VP Chief Information Security Officer will be presenting.
X-ALT-DESC;FMTTYPE=text/html:You are invited to attend the free in person event sponsored by the US Postal Service to help connect businesses and USPS.&nbsp\; This is presented by the Postal Customer Council.<br />\nThere is no entrance free\; there will be free parking and a complimentary lunch will be provided.<br />\nHeather Dyer\, USPS VP Chief Information Security Officer will be presenting.
LOCATION:7540 East 53rd Place Denver\, CO 80266
UID:e.3666.852429
SEQUENCE:3
DTSTAMP:20260422T003845Z
URL:https://members.eriechamber.org/events/details/us-postal-service-free-event-852429
END:VEVENT

END:VCALENDAR
