BEGIN:VCALENDAR
VERSION:2.0
PRODID:-//ChamberMaster//Event Calendar 2.0//EN
METHOD:PUBLISH
X-PUBLISHED-TTL:P3D
REFRESH-INTERVAL:P3D
CALSCALE:GREGORIAN
BEGIN:VEVENT
DTSTART;VALUE=DATE:20231127
DTEND;VALUE=DATE:20231128
TRANSP:TRANSPARENT
X-MICROSOFT-CDO-ALLDAYEVENT:TRUE
SUMMARY:Westerly Holiday Tree Lighting
DESCRIPTION:Westerly Holiday Tree Lighting\n\n11/27/2023\n\n6:oo - 7:30pm\n\nFeaturing Holiday Sounds of the Season\n\n\nHot Coco and Treats Provided\n\nSouthern Land Company is proudly sharing a new Holiday Tree with the Westerly community and the greater Erie area on November 27\, 2023. While the tree itself is not meant to impart or represent any specific religious belief\, we do hope that it symbolizes the light in the community and the continued hope for well-being and prosperity. \n\nWe invite you to share in this wonderful occasion and to enjoy music and refreshments with fellow Erie homeowners.  \n\nThis tree will become an annual fixture in the Westerly Village Center during the holiday season. Join us in commemorating our First Annual Tree Lighting from 6:00 pm   7:30 pm with the tree lighting taking place at about 6:30 pm.
X-ALT-DESC;FMTTYPE=text/html:<div>Westerly Holiday Tree Lighting<br />\n11/27/2023<br />\n6:oo - 7:30pm<br />\nFeaturing Holiday Sounds of the Season</div>\n\n<div style="text-align: center\;">\n<div style="text-align: left\;">Hot Coco and Treats Provided</div>\n\n<p style="text-align: left\;"><span style="color:black">Southern Land Company is proudly sharing&nbsp\;a new&nbsp\;Holiday&nbsp\;Tree with the Westerly&nbsp\;community&nbsp\;and the greater Erie area on&nbsp\;November 27\, 2023. While the tree itself is not meant to impart or represent any specific religious belief\, we do hope that it symbolizes the light in the community and the continued hope for well-being and prosperity.&nbsp\;</span></p>\n\n<p style="text-align: left\;"><span style="color:black">We invite you to&nbsp\;share&nbsp\;in this wonderful occasion and to enjoy music and refreshments with fellow Erie homeowners.&nbsp\;&nbsp\;</span></p>\n\n<p style="text-align: left\;"><span style="color:black">This&nbsp\;tree will become an annual fixture in the Westerly Village Center&nbsp\;during the holiday season.&nbsp\;Join us in commemorating our First Annual Tree Lighting from 6:00 pm &ndash\; 7:30 pm with the tree lighting taking place at about 6:30 pm.&nbsp\;</span></p>\n\n<div style="text-align: left\;">&nbsp\;</div>\n</div>\n
LOCATION:86 Westerly Blvd\, Erie CO
UID:e.3666.852094
SEQUENCE:3
DTSTAMP:20260422T170642Z
URL:https://members.eriechamber.org/events/details/westerly-holiday-tree-lighting-852094
END:VEVENT

END:VCALENDAR
